BEGIN:VCALENDAR
VERSION:2.0
PRODID:-//TriCounty Sustainability Alliance - ECPv6.15.20//NONSGML v1.0//EN
CALSCALE:GREGORIAN
METHOD:PUBLISH
X-WR-CALNAME:TriCounty Sustainability Alliance
X-ORIGINAL-URL:https://tcsahub.org
X-WR-CALDESC:Events for TriCounty Sustainability Alliance
REFRESH-INTERVAL;VALUE=DURATION:PT1H
X-Robots-Tag:noindex
X-PUBLISHED-TTL:PT1H
BEGIN:VTIMEZONE
TZID:America/New_York
BEGIN:DAYLIGHT
TZOFFSETFROM:-0500
TZOFFSETTO:-0400
TZNAME:EDT
DTSTART:20180311T070000
END:DAYLIGHT
BEGIN:STANDARD
TZOFFSETFROM:-0400
TZOFFSETTO:-0500
TZNAME:EST
DTSTART:20181104T060000
END:STANDARD
BEGIN:DAYLIGHT
TZOFFSETFROM:-0500
TZOFFSETTO:-0400
TZNAME:EDT
DTSTART:20190310T070000
END:DAYLIGHT
BEGIN:STANDARD
TZOFFSETFROM:-0400
TZOFFSETTO:-0500
TZNAME:EST
DTSTART:20191103T060000
END:STANDARD
BEGIN:DAYLIGHT
TZOFFSETFROM:-0500
TZOFFSETTO:-0400
TZNAME:EDT
DTSTART:20200308T070000
END:DAYLIGHT
BEGIN:STANDARD
TZOFFSETFROM:-0400
TZOFFSETTO:-0500
TZNAME:EST
DTSTART:20201101T060000
END:STANDARD
END:VTIMEZONE
BEGIN:VEVENT
DTSTART;TZID=America/New_York:20190805T183000
DTEND;TZID=America/New_York:20190805T203000
DTSTAMP:20260419T192257
CREATED:20190710T033845Z
LAST-MODIFIED:20190710T105735Z
UID:2110-1565029800-1565037000@tcsahub.org
SUMMARY:Sustainability on Tap Environmental Awareness Talks
DESCRIPTION:Join the Delran Green Team at Throwback’s Bar and Grill\, 2929 Route 130 S\, Delran\, NJ for “Sustainability on Tap.” Speakers will begin at 7pm. Different environmental topics will be discussed on the following Mondays: \nJune24th: Jerry DeSanto\, Delran Recycling Coordinator \nJuly 8th: George Sereduk\, Bee Keeper \nJuly 22nd: Julia Mooney\, Teacher and creator of “One Outfit\, 100 Days” \nAugust 9th: Elsie Gould\, Tower Gardening \nAugust 22nd: Mike Haberland\, Rutgers Extension Services\, Storm Water and Rain Gardens \n  \nEmail any questions to: delran.green@gmail.com. \n 
URL:https://tcsahub.org/event/sustainability-on-tap-environmental-awareness-talks-2019-08-05/
LOCATION:Throwback;s Bar and Grill\, 2929 Route 130 South\, Delran\, NJ\, 08075\, United States
CATEGORIES:Educational,Lecture
ORGANIZER;CN="Sustainable Delran":MAILTO:delran.green@gmail.com
END:VEVENT
BEGIN:VEVENT
DTSTART;TZID=America/New_York:20190722T183000
DTEND;TZID=America/New_York:20190722T203000
DTSTAMP:20260419T192257
CREATED:20190710T033845Z
LAST-MODIFIED:20190710T105735Z
UID:2106-1563820200-1563827400@tcsahub.org
SUMMARY:Sustainability on Tap Environmental Awareness Talks
DESCRIPTION:Join the Delran Green Team at Throwback’s Bar and Grill\, 2929 Route 130 S\, Delran\, NJ for “Sustainability on Tap.” Speakers will begin at 7pm. Different environmental topics will be discussed on the following Mondays: \nJune24th: Jerry DeSanto\, Delran Recycling Coordinator \nJuly 8th: George Sereduk\, Bee Keeper \nJuly 22nd: Julia Mooney\, Teacher and creator of “One Outfit\, 100 Days” \nAugust 9th: Elsie Gould\, Tower Gardening \nAugust 22nd: Mike Haberland\, Rutgers Extension Services\, Storm Water and Rain Gardens \n  \nEmail any questions to: delran.green@gmail.com. \n 
URL:https://tcsahub.org/event/sustainability-on-tap-environmental-awareness-talks/
LOCATION:Throwback;s Bar and Grill\, 2929 Route 130 South\, Delran\, NJ\, 08075\, United States
CATEGORIES:Educational,Lecture
ORGANIZER;CN="Sustainable Delran":MAILTO:delran.green@gmail.com
END:VEVENT
BEGIN:VEVENT
DTSTART;TZID=America/New_York:20190619T100000
DTEND;TZID=America/New_York:20190619T123000
DTSTAMP:20260419T192257
CREATED:20190529T035404Z
LAST-MODIFIED:20190613T040638Z
UID:2094-1560938400-1560947400@tcsahub.org
SUMMARY:Pinelands Nursery and Supply Sustainability Speaker Series
DESCRIPTION:Pinelands Nursery and Supply is hosting a NJDEP Sustainability Speaker Series meeting. At the meeting\, their production analyst\, Tom Knezick\, will be discussing Pinelands Nursery and Supply’s sustainable initiatives which include water conservation\, renewable energy\, emergency preparedness and community engagement. We will also learn how to create pollinator habitats from Kelly Gill who is both the Senior Pollinator Conservation Specialist at The Xerces Society and Partner Biologist at USDA Natural Resources Conservation Service. Following the presentations there will be a tour of Pinelands Nursery and Supply’s Wildflower Farm. Please register here. \nWednesday June 19\, 2019\n10:00 am- 12:30 pm\nPinelands Nursery and Supply\n323 Island Road\, Columbus\, NJ 08022 \nAGENDA \n10:00 am   Registration/Meet & Greet\n10:35 am   Introductions\n10:50 am   Sustainability at Pinelands Nursery and Supply\nTom Knezick\, Production Analyst\, Pinelands Nursery and Supply\n11:20 am   Break\n11:30 am   Creating Pollinator Habitat\nKelly Gill\, Senior Pollinator Conservation Specialist\, The Xerces Society\nPartner Biologist\, USDA Natural Resources Conservation Service\n12:00 pm   Tour of Pinelands Nursery and Supply’s Wildflower Farm\n12:30 pm   Adjourn
URL:https://tcsahub.org/event/pinelands-nursery-and-supply-sustainability-speaker-series/
LOCATION:Pinelands Nursery and Supply\, 323 Island Road\, Columbus\, NJ\, 08022\, United States
CATEGORIES:Educational,Lecture,Outdoor Activity
ATTACH;FMTTYPE=image/jpeg:https://tcsahub.org/wp-content/uploads/2019/06/Pineland-nursery-and-supply.jpg
END:VEVENT
BEGIN:VEVENT
DTSTART;TZID=America/New_York:20190530T180000
DTEND;TZID=America/New_York:20190530T200000
DTSTAMP:20260419T192257
CREATED:20190505T102834Z
LAST-MODIFIED:20190523T171408Z
UID:2042-1559239200-1559246400@tcsahub.org
SUMMARY:Energy Efficiency Summit - POSTPONED until Fall
DESCRIPTION:!!! Event is POSTPONED until Fall !!! \nMore information about date will be posted soon. \nManaging energy use in your home\, business\, or municipal facilities is proven to have a significant impact on the environment … & cost savings! Learn specific actions your community can take to improve energy use through proven energy efficiency measures. Hear about successful case studies and available resources & incentives to get you started. \nFor more information\, contact \nTri-County Sustainability Alliance\n609-771-3129\nhubs@sustainablejersey.com
URL:https://tcsahub.org/event/energy-efficiency-summit/
LOCATION:Camden County Emergency Regional Training Center\, 420 Woodbury - Turnersville Rd\, Blackwood\, NJ\, 08012\, United States
CATEGORIES:Educational,Indoor Activity,Indoor Activity - Registration Required,Networking,Training,Training - Registration Required
ATTACH;FMTTYPE=image/jpeg:https://tcsahub.org/wp-content/uploads/2019/05/cleantech.jpeg
END:VEVENT
BEGIN:VEVENT
DTSTART;TZID=America/New_York:20190515T200000
DTEND;TZID=America/New_York:20190515T210000
DTSTAMP:20260419T192257
CREATED:20190510T195243Z
LAST-MODIFIED:20190510T195243Z
UID:2068-1557950400-1557954000@tcsahub.org
SUMMARY:Webinar on health and climate hazards of biogas
DESCRIPTION:Bio(gas)hazards: Dirty Air\, Factory Farms and Climate Change\n \n\n\n\n\n\n\n\n\n\n\nOil and gas companies are teaming up with factory farms to sell us a greenwashed nightmare: manure as renewable energy.\n\nManure-to-energy\, or “biogas\,” uses manure from factory farms to create natural gas. It entrenches factory farms by creating a market for the huge volumes of manure they produce. Investing in the massive infrastructure needed to produce biogas wastes critical resources that should be used to shift us toward real renewable energy. It will disproportionately impact communities of color. And it won’t address our climate crisis or our factory farm problem. 
URL:https://tcsahub.org/event/webinar-on-health-and-climate-hazards-of-biogas/
LOCATION:NJ
CATEGORIES:Educational,Webinar
ATTACH;FMTTYPE=image/jpeg:https://tcsahub.org/wp-content/uploads/2019/05/Food_Factory-Farms_WasteLagoonRightSpout_USDA_300_KK0418.jpeg
END:VEVENT
BEGIN:VEVENT
DTSTART;TZID=America/New_York:20190505T130000
DTEND;TZID=America/New_York:20190505T143000
DTSTAMP:20260419T192258
CREATED:20190327T202733Z
LAST-MODIFIED:20190327T202733Z
UID:1992-1557061200-1557066600@tcsahub.org
SUMMARY:Plant Swap!
DESCRIPTION:Sunday\, May 5th from  1-2:30pm \nCollingswood Library\, 771 Haddon Ave\, Collingswood\, NJ \nCalling all plant lovers! Bring your extra veggie/flower seedlings\, perennial divisions\, bulbs\, shrubs\, healthy house plants\, or just come empty handed\, and leave with new (to you) plant varieties. Please place your plants in containers\, label them as well as possible and make sure they are non-invasive\, as well as pest & disease-free. The SJ Seed Circle Library will be on hand with seeds that you can plant now. \nFree and open to the public. \nFor more information go to the Facebook event page here or call (856) 425-2221. 
URL:https://tcsahub.org/event/plant-swap/
LOCATION:Collingswood Library\, 771 Haddon Avenue\, Collingswood\, NJ\, United States
CATEGORIES:Educational,Plant Swap
ATTACH;FMTTYPE=image/jpeg:https://tcsahub.org/wp-content/uploads/2019/03/plant-swap-May-9.jpg
END:VEVENT
BEGIN:VEVENT
DTSTART;TZID=America/New_York:20190504T100000
DTEND;TZID=America/New_York:20190504T140000
DTSTAMP:20260419T192258
CREATED:20190420T021236Z
LAST-MODIFIED:20190502T021322Z
UID:2032-1556964000-1556978400@tcsahub.org
SUMMARY:Sustainable South Jersey Earth Festival
DESCRIPTION:The Sustainable South Jersey annual Earth Festival is the largest eco-event in South Jersey and draws 5000 visitors. This year’s theme is: Reduce Plastic – Fantastic! This family-friendly event features: bike ride (8:30am)\, bike valet parking\, entertainment\, healthy food for purchase (vegan\, vegetarian\, gluten-free\, too)\, outdoor arts & crafts\, earth-friendly vendors and organizations\, perennial plant swap\, free tree seedlings (while supply lasts)\, recycle-upcycle depot drop-off\, plastic-cap kids-craft\, reusable water bottle refills\, and Flying Fish Sustainable Sips (aged 21+) and more. This is an all-weather FREE event.\nPresenting sponsors: LourdesCare of Cherry Hill\, Hutchinson-Expertly Better\nPartners: Cherry Hill Township\, Cherry Hill School District\nBike ride support: Erlton Bike Shop\nBike valet support: Courier Post
URL:https://tcsahub.org/event/sustainable-south-jersey-earth-festival/
LOCATION:Croft Farm\, 100 Borton's Mill Road\, Cherry Hill\, NJ\, 08034\, United States
CATEGORIES:Earth Festival,Educational,Kids event,Outdoor Activity
ATTACH;FMTTYPE=image/png:https://tcsahub.org/wp-content/uploads/2019/05/Earth-festival-2019-cover-photo.png
ORGANIZER;CN="Sustainable South Jersey":MAILTO:info@sustainablesouthjersey.org
END:VEVENT
BEGIN:VEVENT
DTSTART;TZID=America/New_York:20190430T190000
DTEND;TZID=America/New_York:20190430T210000
DTSTAMP:20260419T192258
CREATED:20190411T120835Z
LAST-MODIFIED:20190411T120835Z
UID:2006-1556650800-1556658000@tcsahub.org
SUMMARY:Sustainable Speakers Series
DESCRIPTION:Please join Sustainable Haddon Heights as we launch our Sustainable Speakers series on April 30th at 7pm at the Haddon Heights Library!\nComposting expert Korin Tangtrakul will be discussing the importance and relevance of composting in our lives. She has been composting for years and honed her craft at the the Brooklyn-based composting company Sure We Can.  \nDaniel Paschall will share his experiences from working to develop the East Coast Greenway\, a 3000-mile long biking and walking route that stretches from Maine to Florida. He will focus on the ECG as a means to develop interconnectedness by improving public health\, boosting economic development\, and living more sustainably.  \nAll are welcome! Be sure to come with questions and a Sustainable Mindset!
URL:https://tcsahub.org/event/sustainable-speakers-series/
LOCATION:Haddon Heights Public Library\, 608 Station Avenue\, Haddon Heights\, 08035
CATEGORIES:Educational,Lecture and Group Discussion
ATTACH;FMTTYPE=image/jpeg:https://tcsahub.org/wp-content/uploads/2019/04/Both-Speakers3.jpg
END:VEVENT
BEGIN:VEVENT
DTSTART;TZID=America/New_York:20190428T090000
DTEND;TZID=America/New_York:20190428T130000
DTSTAMP:20260419T192258
CREATED:20190310T153517Z
LAST-MODIFIED:20190310T153527Z
UID:1938-1556442000-1556456400@tcsahub.org
SUMMARY:Youth Birding on Petty’s Island
DESCRIPTION:Sunday\, April 28th\, 2019\n9:00 a.m. to 1:00 p.m \nThis hike is open to youth ages 11 to 17 and their parent or guardian.\nAdults attending MUST be accompanying a youth. \nJoin New Jersey Audubon and the New Jersey Young Birders Club for an exciting field trip to Petty’s Island. Learn about the island’s industrial past and its transformation to a wildlife sanctuary as we hike along the Delaware River looking for spring migrants. The varied habitats allow for opportunities to see a variety of birds (and other wildlife too!). Bring an adult along and enjoy this rare opportunity. \nChildren MUST be 12 and older (or 11 in grade 6) to participate and accompanied by an adult or in a group with an adult to child ratio of 1:7. Each child must have a waiver signed by their parent or guardian. All adult chaperones must also have a signed waiver to participate. Registration is REQUIRED for this event; space is limited. Register here.\nDirections and other details are given upon registration. No phone or email registrations accepted. Any question please email Kelly Wenzel at kelly.wenzel@njaudubon.org.
URL:https://tcsahub.org/event/youth-birding-on-pettys-island/
LOCATION:Petty’s Island\, NJ\, United States
CATEGORIES:Bird watching,Educational,Kids event,Outdoor Activity,Outdoor event - Registration required
ATTACH;FMTTYPE=image/jpeg:https://tcsahub.org/wp-content/uploads/2018/12/Bird-watching-on-the-DE-4-27-19.jpg
ORGANIZER;CN="New Jersey Audubon":MAILTO:hq@njaudubon.org
END:VEVENT
BEGIN:VEVENT
DTSTART;TZID=America/New_York:20190409T190000
DTEND;TZID=America/New_York:20190409T210000
DTSTAMP:20260419T192258
CREATED:20190327T195917Z
LAST-MODIFIED:20190327T195917Z
UID:1988-1554836400-1554843600@tcsahub.org
SUMMARY:Herbs: Growing Them\, Using Them\, and Filling Your Yard with Them!
DESCRIPTION:Tuesday\, April 9\, 2019 from 7pm to 9pm \nCarman Tilelli Hall\, 820 Mercer Street\, Cherry Hill\, NJ  08002.  \n  \nHerbs: Growing Them\, Using Them\, and Filling Your Yard with Them! is being presented by Gloria Stevens\, Proprietor of Springville Herbary in Mt. Laurel. This is the Horticultural Society of South Jersey’s monthly meeting. She will be bringing actual plants\, not just pictures! Learn about how much fun it is to grow herbs as well as how useful and tough they are. The focus will be mostly on culinary herbs and teas.  Free and open to the public.  \nFor more information\, check the website: www.hssj.org or Facebook event page here or call 856-287-5959. 
URL:https://tcsahub.org/event/herbs-growing-them-using-them-and-filling-your-yard-with-them/
LOCATION:Carmen Tilelli Hall\, 820 Mercer Street\, Cherry Hill\, NJ\, 08002\, United States
CATEGORIES:Educational
ATTACH;FMTTYPE=image/jpeg:https://tcsahub.org/wp-content/uploads/2019/03/Herb-event-April-9th.jpg
END:VEVENT
BEGIN:VEVENT
DTSTART;TZID=America/New_York:20190407T130000
DTEND;TZID=America/New_York:20190407T143000
DTSTAMP:20260419T192258
CREATED:20190325T190239Z
LAST-MODIFIED:20190325T190239Z
UID:1985-1554642000-1554647400@tcsahub.org
SUMMARY:Greens! Greens! Greens!
DESCRIPTION:Greens! Greens! Greens! \nSJ Seed Circle Library will have seeds for early season varieties like green leafy vegetables. Be sure to stop by to get your seeds for garden produce that can be planted now. Someone will be on hand to answer your gardening questions. Free and open to the public. Bring a friend! \nCollingswood Library\, 771 Haddon Avenue\, Collingswood\, NJ \nFOR MORE INFO:  call (856) 425-2221 or click here. 
URL:https://tcsahub.org/event/greens-greens-greens/
LOCATION:Collingswood Library\, 771 Haddon Avenue\, Collingswood\, NJ\, United States
CATEGORIES:Educational
ATTACH;FMTTYPE=image/jpeg:https://tcsahub.org/wp-content/uploads/2019/03/Greens-event-4-7-19.jpg
END:VEVENT
BEGIN:VEVENT
DTSTART;TZID=America/New_York:20190331T120000
DTEND;TZID=America/New_York:20190331T150000
DTSTAMP:20260419T192258
CREATED:20190323T030624Z
LAST-MODIFIED:20190323T030624Z
UID:1980-1554033600-1554044400@tcsahub.org
SUMMARY:Stream School
DESCRIPTION:Stream School \nSunday\, March 31st\, 12:00 – 3:00 PM\n \n\nCome learn about macroinvertebrate identification and what these organisms can tell us about the health of a stream. Stick around for a tour of Batsto Village afterwards! This is a free event.\n\n\nDate: Sunday\, March 31st\nTime: 12:00 – 3:00 PM\nLocation: Batsto Village (meet in front\nof Visitor’s Center) 31 Batsto Rd\, Hammonton\, NJ 08037 \n\nRSVP required: Please email watershed@marine.rutgers.edu or call 609-812-0649 x 214 to RSVP.
URL:https://tcsahub.org/event/stream-school/
LOCATION:Bastro Village\, 31 Batsto Rd\, Hammonton\, NJ\, 08037\, United States
CATEGORIES:Educational,Nature Hike,Outdoor Activity,Outdoor event - Registration required
ATTACH;FMTTYPE=image/jpeg:https://tcsahub.org/wp-content/uploads/2019/03/unnamed-16.jpg
END:VEVENT
BEGIN:VEVENT
DTSTART;TZID=America/New_York:20190310T110000
DTEND;TZID=America/New_York:20190310T160000
DTSTAMP:20260419T192258
CREATED:20190213T184452Z
LAST-MODIFIED:20190213T184657Z
UID:1876-1552215600-1552233600@tcsahub.org
SUMMARY:14th Annual Lines on the Pines
DESCRIPTION:Join the Pinelands Preservation Alliance for  the 14th annual “Line on the Pines” on Sunday\, March 10th from 11 am to 4 pm. This Pinelands education at Stockton University is a very special chance to meet Pine Barrens authors\, artists and artisans. Over eighty Pine Barrens artists will sign their books\, display their artwork\, play music and share their love of the Pine Barrens. Bring your children to the “Lines on the Pines for Kids” area! Click here for more information. \nLocation: Stockton University Campus Center\, 101 Vera King Farris Drive\, Galloway\, NJ 08205.
URL:https://tcsahub.org/event/14th-annual-lines-on-the-pines/
LOCATION:Stockton University\, Hammonton\, NJ\, 08037\, United States
CATEGORIES:Educational,Kids event
ATTACH;FMTTYPE=image/jpeg:https://tcsahub.org/wp-content/uploads/2019/02/unnamed-14.jpg
END:VEVENT
BEGIN:VEVENT
DTSTART;TZID=America/New_York:20190309T090000
DTEND;TZID=America/New_York:20190309T163000
DTSTAMP:20260419T192258
CREATED:20190213T014209Z
LAST-MODIFIED:20190213T014209Z
UID:1862-1552122000-1552149000@tcsahub.org
SUMMARY:30th Annual Pinelands Short Course
DESCRIPTION:Please join the Pinelands Preservation Alliance on Saturday\, March 9th starting at 9 am for this daylong educational event at Stockton University featuring lectures\, field trips and music. Topics include weather\, geology\, hiking\, blueberries and cranberries\, plants\, birds\, frogs and toads\, snakes\, and much more!  PPA staff Dr. Ryan Rebozo\, will lead a field trip to the pygmy pine plains. Pinelands Adventures staff will also be leading a bus trip and giving a talk. Location: Stockton University\, 101 Vera King Farris Drive\, Galloway\, NJ  08205. The cost is $50. For more information and to register click here. 
URL:https://tcsahub.org/event/30th-annual-pinelands-short-course/
LOCATION:Stockton University\, Hammonton\, NJ\, 08037\, United States
CATEGORIES:Educational
END:VEVENT
BEGIN:VEVENT
DTSTART;TZID=America/New_York:20190303T130000
DTEND;TZID=America/New_York:20190303T150000
DTSTAMP:20260419T192258
CREATED:20190114T174708Z
LAST-MODIFIED:20190213T182103Z
UID:1779-1551618000-1551625200@tcsahub.org
SUMMARY:Grow Your Own Sweet Potatoes
DESCRIPTION:Start your garden NOW! This fun\, make & take class will focus on starting\, growing\, and harvesting sweet potatoes\, and now is the time to begin. Attendees will start their own plants (slips) and learn how to grow them in straw bales or in the ground. Bring your own sweet potato (BYOSP) or use one that is provided. The South Jersey Seed Circle Library will be on hand with seeds that can be started now. It’s on March 3rd from 1 pm to 3 pm at the Collingswood Public Library\, 771 Haddon Ave.\, Collingswood\, NJ 08108.  \nFree and open to the public.  Sponsored by South Jersey Seed Circle Library and GMO free NJ. \nFor more information call (856) 425-2221. \nSee the Facebook event page here.
URL:https://tcsahub.org/event/grow-your-own-sweet-potatoes/
LOCATION:Collingswood Library\, 771 Haddon Avenue\, Collingswood\, NJ\, United States
CATEGORIES:Educational,Lecture and Group Discussion
ATTACH;FMTTYPE=image/jpeg:https://tcsahub.org/wp-content/uploads/2019/01/sweet-potato.jpg
END:VEVENT
BEGIN:VEVENT
DTSTART;TZID=America/New_York:20190224T160000
DTEND;TZID=America/New_York:20190224T170000
DTSTAMP:20260419T192258
CREATED:20190222T122812Z
LAST-MODIFIED:20190222T123008Z
UID:1907-1551024000-1551027600@tcsahub.org
SUMMARY:Community Discussion on Fast Fashion
DESCRIPTION:Come on out and meet Audubon resident and Moorestown High School Teacher Julia Ransom Mooney of the #OneOutfit100DaysProject.  Learn what ‘Fast Fashion’ is\, the myths about recycling clothes\, and excessive consumerism. \nEvent is free and open to the public.
URL:https://tcsahub.org/event/community-discussion-on-fast-fashion/
LOCATION:New Covenant Community Church Audubon\, 255 Edgewood Avenue\, Audubon\, NJ\, 08106\, United States
CATEGORIES:Educational,Indoor Activity,Lecture and Group Discussion
ATTACH;FMTTYPE=image/jpeg:https://tcsahub.org/wp-content/uploads/2019/02/JuliaRansom.jpg
ORGANIZER;CN="Sustainable Audubon":MAILTO:sustainableaudubon@gmail.com
END:VEVENT
BEGIN:VEVENT
DTSTART;TZID=America/New_York:20190223T130000
DTEND;TZID=America/New_York:20190223T150000
DTSTAMP:20260419T192258
CREATED:20190213T010829Z
LAST-MODIFIED:20190213T013022Z
UID:1854-1550926800-1550934000@tcsahub.org
SUMMARY:Rain Barrel Workshop
DESCRIPTION:Please join the Pinelands Perservation Alliance for a workshop to build your own rain barrel on Saturday\, February 23rd from 1 pm to 3 pm.  Workshop includes a presentation about how rain barrels work\, the importance of water conservation\, and other tips to protect our water. After the presentation we will build a fully functional rain barrel for you to take home! Registration fee is $10 per barrel. It’s at the Pinelands Preservation Alliance\, 17 Pemberton Rd\, Southampton NJ 08088.  Register today! \nSponsored by the Pinelands Preservation Alliance\, New Jersey Watershed Ambassadors\, Americorps and the New Jersey Department of Environmental Protection. \n  \n  \n  \n 
URL:https://tcsahub.org/event/rain-barrel-workshop-2/
LOCATION:Pinelands Preservation Alliance Headquarters\, 17 Pemberton Rd\, Southampton\, NJ\, 08088\, United States
CATEGORIES:Educational
ATTACH;FMTTYPE=image/jpeg:https://tcsahub.org/wp-content/uploads/2019/02/Pinelands-rain-barrel-workshop-3.jpg
END:VEVENT
END:VCALENDAR