BEGIN:VCALENDAR
VERSION:2.0
PRODID:-//TriCounty Sustainability Alliance - ECPv6.15.20//NONSGML v1.0//EN
CALSCALE:GREGORIAN
METHOD:PUBLISH
X-WR-CALNAME:TriCounty Sustainability Alliance
X-ORIGINAL-URL:https://tcsahub.org
X-WR-CALDESC:Events for TriCounty Sustainability Alliance
REFRESH-INTERVAL;VALUE=DURATION:PT1H
X-Robots-Tag:noindex
X-PUBLISHED-TTL:PT1H
BEGIN:VTIMEZONE
TZID:America/New_York
BEGIN:DAYLIGHT
TZOFFSETFROM:-0500
TZOFFSETTO:-0400
TZNAME:EDT
DTSTART:20180311T070000
END:DAYLIGHT
BEGIN:STANDARD
TZOFFSETFROM:-0400
TZOFFSETTO:-0500
TZNAME:EST
DTSTART:20181104T060000
END:STANDARD
BEGIN:DAYLIGHT
TZOFFSETFROM:-0500
TZOFFSETTO:-0400
TZNAME:EDT
DTSTART:20190310T070000
END:DAYLIGHT
BEGIN:STANDARD
TZOFFSETFROM:-0400
TZOFFSETTO:-0500
TZNAME:EST
DTSTART:20191103T060000
END:STANDARD
BEGIN:DAYLIGHT
TZOFFSETFROM:-0500
TZOFFSETTO:-0400
TZNAME:EDT
DTSTART:20200308T070000
END:DAYLIGHT
BEGIN:STANDARD
TZOFFSETFROM:-0400
TZOFFSETTO:-0500
TZNAME:EST
DTSTART:20201101T060000
END:STANDARD
END:VTIMEZONE
BEGIN:VEVENT
DTSTART;TZID=America/New_York:20190302T140000
DTEND;TZID=America/New_York:20190302T160000
DTSTAMP:20260419T181354
CREATED:20190213T012634Z
LAST-MODIFIED:20190213T012634Z
UID:1859-1551535200-1551542400@tcsahub.org
SUMMARY:TREE-IFIC Party with Cat in the Hat & Friends
DESCRIPTION:Celebrate Dr. Seuss & Read Across America week with us. Enjoy stories by Dr. Seuss and others read by special guests. It’s on March 2nd from 2pm to 4pm. Make a craft\, visit our photo booth hosted by The Cat in the Hat\, and meet some of the wild animals cared for by Woodford Cedar Run Wildlife Refuge.  Complete the Search Challenge and take home a special gift.  Free but registration is required\, space is limited. Questions?  Contact Janet by email at PinelandsGifts@gmail.com. \nLocation: PPA Headquarters\, 17 Pemberton Rd\, Southampton NJ 08088.  \nPlease register here!
URL:https://tcsahub.org/event/tree-ific-party-with-cat-in-the-hat-friends/
LOCATION:Pinelands Preservation Alliance Headquarters\, 17 Pemberton Rd\, Southampton\, NJ\, 08088\, United States
CATEGORIES:Kids event
ATTACH;FMTTYPE=image/jpeg:https://tcsahub.org/wp-content/uploads/2019/02/unnamed-13.jpg
END:VEVENT
END:VCALENDAR