BEGIN:VCALENDAR
VERSION:2.0
PRODID:-//TriCounty Sustainability Alliance - ECPv6.15.20//NONSGML v1.0//EN
CALSCALE:GREGORIAN
METHOD:PUBLISH
X-ORIGINAL-URL:https://tcsahub.org
X-WR-CALDESC:Events for TriCounty Sustainability Alliance
REFRESH-INTERVAL;VALUE=DURATION:PT1H
X-Robots-Tag:noindex
X-PUBLISHED-TTL:PT1H
BEGIN:VTIMEZONE
TZID:America/New_York
BEGIN:DAYLIGHT
TZOFFSETFROM:-0500
TZOFFSETTO:-0400
TZNAME:EDT
DTSTART:20170312T070000
END:DAYLIGHT
BEGIN:STANDARD
TZOFFSETFROM:-0400
TZOFFSETTO:-0500
TZNAME:EST
DTSTART:20171105T060000
END:STANDARD
BEGIN:DAYLIGHT
TZOFFSETFROM:-0500
TZOFFSETTO:-0400
TZNAME:EDT
DTSTART:20180311T070000
END:DAYLIGHT
BEGIN:STANDARD
TZOFFSETFROM:-0400
TZOFFSETTO:-0500
TZNAME:EST
DTSTART:20181104T060000
END:STANDARD
BEGIN:DAYLIGHT
TZOFFSETFROM:-0500
TZOFFSETTO:-0400
TZNAME:EDT
DTSTART:20190310T070000
END:DAYLIGHT
BEGIN:STANDARD
TZOFFSETFROM:-0400
TZOFFSETTO:-0500
TZNAME:EST
DTSTART:20191103T060000
END:STANDARD
BEGIN:DAYLIGHT
TZOFFSETFROM:-0500
TZOFFSETTO:-0400
TZNAME:EDT
DTSTART:20200308T070000
END:DAYLIGHT
BEGIN:STANDARD
TZOFFSETFROM:-0400
TZOFFSETTO:-0500
TZNAME:EST
DTSTART:20201101T060000
END:STANDARD
END:VTIMEZONE
BEGIN:VEVENT
DTSTART;TZID=America/New_York:20190216T140000
DTEND;TZID=America/New_York:20190216T140000
DTSTAMP:20260419T161801
CREATED:20181124T124628Z
LAST-MODIFIED:20200219T094413Z
UID:1677-1550325600-1550325600@tcsahub.org
SUMMARY:Project DRAWDOWN: A Comprehensive Plan to REVERSE GLOBAL WARMING
DESCRIPTION:Is the Game Over or is it GAME ON? \nPachamama Alliance’s Drawdown Workshop is an opportunity to explore new possibilities around\nglobal warming — to get more educated\, inspired\, empowered – and\, collaborating with others\,\nto get into action. \nIn this four-session workshop — through videos\, presentations\, individual research\, and group\ninteraction — we will delve into the Drawdown solutions to reverse global warming. \n!!! Postponed !!! New dates to be announced soon. \nDates: To be Announced.\nPlease plan to attend all four sessions. \nRSVP: pachamarty@gmail.com or 856-266-7331\nFacilitated by: Marty Levin &amp; June Hament\nThere is no charge for this workshop. Contributions will be gratefully accepted\nPreparation: To gain the full benefits of this workshop\, we recommend the following: \n• Buy (or borrow from your local library) the book\, Drawdown\, edited by Paul Hawken\nand/or review the Drawdown website at www.drawdown.org. We will engage with the\nDrawdown material throughout the workshop.\n• When scheduling your participation in this workshop\, please set aside time between\nsessions to research and engage with the material.
URL:https://tcsahub.org/event/project-drawdown-a-comprehensive-plan-to-reverse-global-warming-2019-02-09-2019-02-16/
LOCATION:Moorestown Library\, 111 West 2nd Street\, Moorestown\, 08057\, United States
CATEGORIES:Indoor Activity,Indoor Activity - Registration Required,Lecture,Lecture - Registration Required,Lecture and Group Discussion
ATTACH;FMTTYPE=image/jpeg:https://tcsahub.org/wp-content/uploads/2018/11/Global-warming-700x454.jpg
END:VEVENT
BEGIN:VEVENT
DTSTART;TZID=America/New_York:20190209T140000
DTEND;TZID=America/New_York:20190209T140000
DTSTAMP:20260419T161801
CREATED:20181124T124628Z
LAST-MODIFIED:20200219T094413Z
UID:1676-1549720800-1549720800@tcsahub.org
SUMMARY:Project DRAWDOWN: A Comprehensive Plan to REVERSE GLOBAL WARMING
DESCRIPTION:Is the Game Over or is it GAME ON? \nPachamama Alliance’s Drawdown Workshop is an opportunity to explore new possibilities around\nglobal warming — to get more educated\, inspired\, empowered – and\, collaborating with others\,\nto get into action. \nIn this four-session workshop — through videos\, presentations\, individual research\, and group\ninteraction — we will delve into the Drawdown solutions to reverse global warming. \n!!! Postponed !!! New dates to be announced soon. \nDates: To be Announced.\nPlease plan to attend all four sessions. \nRSVP: pachamarty@gmail.com or 856-266-7331\nFacilitated by: Marty Levin &amp; June Hament\nThere is no charge for this workshop. Contributions will be gratefully accepted\nPreparation: To gain the full benefits of this workshop\, we recommend the following: \n• Buy (or borrow from your local library) the book\, Drawdown\, edited by Paul Hawken\nand/or review the Drawdown website at www.drawdown.org. We will engage with the\nDrawdown material throughout the workshop.\n• When scheduling your participation in this workshop\, please set aside time between\nsessions to research and engage with the material.
URL:https://tcsahub.org/event/project-drawdown-a-comprehensive-plan-to-reverse-global-warming-2019-02-09/
LOCATION:Moorestown Library\, 111 West 2nd Street\, Moorestown\, 08057\, United States
CATEGORIES:Indoor Activity,Indoor Activity - Registration Required,Lecture,Lecture - Registration Required,Lecture and Group Discussion
ATTACH;FMTTYPE=image/jpeg:https://tcsahub.org/wp-content/uploads/2018/11/Global-warming-700x454.jpg
END:VEVENT
BEGIN:VEVENT
DTSTART;TZID=America/New_York:20190202T140000
DTEND;TZID=America/New_York:20190202T140000
DTSTAMP:20260419T161801
CREATED:20181124T124628Z
LAST-MODIFIED:20190109T181511Z
UID:1672-1549116000-1549116000@tcsahub.org
SUMMARY:Project DRAWDOWN: A Comprehensive Plan to REVERSE GLOBAL WARMING
DESCRIPTION:Is the Game Over or is it GAME ON? \nPachamama Alliance’s Drawdown Workshop is an opportunity to explore new possibilities around\nglobal warming — to get more educated\, inspired\, empowered – and\, collaborating with others\,\nto get into action. \nIn this four-session workshop — through videos\, presentations\, individual research\, and group\ninteraction — we will delve into the Drawdown solutions to reverse global warming.\nDates: Saturdays\, 2/3\, 2/10\, 2/17 and 3/2 (2:00 – 4:00 pm)\nPlease plan to attend all four sessions. \nRSVP: pachamarty@gmail.com or 856-266-7331\nFacilitated by: Marty Levin &amp; June Hament\nThere is no charge for this workshop. Contributions will be gratefully accepted\nPreparation: To gain the full benefits of this workshop\, we recommend the following: \n• Buy (or borrow from your local library) the book\, Drawdown\, edited by Paul Hawken\nand/or review the Drawdown website at www.drawdown.org. We will engage with the\nDrawdown material throughout the workshop.\n• When scheduling your participation in this workshop\, please set aside time between\nsessions to research and engage with the material.
URL:https://tcsahub.org/event/project-drawdown-a-comprehensive-plan-to-reverse-global-warming/
LOCATION:Moorestown Library\, 111 West 2nd Street\, Moorestown\, 08057\, United States
CATEGORIES:Indoor Activity,Indoor Activity - Registration Required,Lecture,Lecture - Registration Required,Lecture and Group Discussion
ATTACH;FMTTYPE=image/jpeg:https://tcsahub.org/wp-content/uploads/2018/11/Global-warming-700x454.jpg
END:VEVENT
BEGIN:VEVENT
DTSTART;TZID=America/New_York:20190119T140000
DTEND;TZID=America/New_York:20190119T160000
DTSTAMP:20260419T161801
CREATED:20181124T123902Z
LAST-MODIFIED:20181124T123902Z
UID:1666-1547906400-1547913600@tcsahub.org
SUMMARY:Introduction to  Project Drawdown
DESCRIPTION:Learn how we can move forward to REVERSE global warming! \nIn this 2 hour Introduction\, we will begin to: \n Learn – about some of the 80 best\, currently-existing solutions to climate change.\n Reflect – on the solutions that call to us the most.\n Share – how\, working together\, we can move forward to a sustainable future – NOW! \nSaturday\, January 19\, 2019\, 2:00 PM (We’ll start promptly\, please come early) \nUsing video and group discussion\, we will begin to explore the latest research of Paul Hawken\, editor of Drawdown\, renowned author\, entrepreneur &amp; environmental activist\, as he shares his vision about how to reverse global warming. Project Drawdown identifies currently working solutions and how we can participate in this comprehensive plan. \nFor more information and to register\, contact June Hament at pachajune@gmail.com or Martin Levin at 856-266-7331.
URL:https://tcsahub.org/event/introduction-to-project-drawdown/
LOCATION:Moorestown Library\, 111 West 2nd Street\, Moorestown\, 08057\, United States
CATEGORIES:Indoor Activity,Indoor Activity - Registration Required,Lecture,Lecture - Registration Required,Lecture and Group Discussion
ATTACH;FMTTYPE=image/jpeg:https://tcsahub.org/wp-content/uploads/2018/11/PrettyCountryside.jpg
END:VEVENT
BEGIN:VEVENT
DTSTART;TZID=America/New_York:20181216T130000
DTEND;TZID=America/New_York:20181216T150000
DTSTAMP:20260419T161801
CREATED:20181110T005921Z
LAST-MODIFIED:20181124T122802Z
UID:1638-1544965200-1544972400@tcsahub.org
SUMMARY:Soap from the Garden\, Demo & Sale
DESCRIPTION:If you’ve ever been interested in cold process soap making\, save the date for this event. Watch soap being made with calendula flowers and luffa sponges grown organically in NJ gardens. You will leave with a recipe and all the resources you need to make your own soap at home. A variety of soaps will be available for purchase\, just in time for holiday gift giving. \nFree and open to the public \nMORE INFO:  call (856) 425-2221\, www.GMOFreeNJ.com/events \nFacebook:  https://facebook.com/events/2264778370264002?
URL:https://tcsahub.org/event/soap-from-the-garden-demo-sale/
LOCATION:Collingswood Library\, 771 Haddon Avenue\, Collingswood\, NJ\, United States
CATEGORIES:Indoor Activity,Lecture,Lecture - Registration Required
ATTACH;FMTTYPE=image/jpeg:https://tcsahub.org/wp-content/uploads/2018/11/soap-slivers-to-keep-deer-away-by-Stofko.jpg
END:VEVENT
BEGIN:VEVENT
DTSTART;TZID=America/New_York:20180915T140000
DTEND;TZID=America/New_York:20180915T160000
DTSTAMP:20260419T161801
CREATED:20180809T111827Z
LAST-MODIFIED:20180809T111827Z
UID:1447-1537020000-1537027200@tcsahub.org
SUMMARY:Internationally reknown author and speaker\, John Dear
DESCRIPTION:This year’s first Thomas Berry Lecture will feature  John Dear\, internationally reknown author and speaker\, practitioner of non-violence. His talk is entitled “They Will Inherit the Earth.” Reception to follow. \nThis is a ticketed event. It is fund and friend raiser for CFET. Contact Cathy Nevins at canevins@verizon.net or at 856-816-6373 for more information\, and to find out how you and/or your business can be a sponsor! \nJohn Dear is the embodiment of a peacemaker\,” Archbishop Desmond Tutu wrote a few years ago when he nominated John for the Nobel Peace Prize. “He has led by example through his actions and in his writings and in numerous sermons\, speeches and demonstrations. He believes that peace is not something static\, but rather to make peace is to be engaged\, mind\, body and spirit. \nHis teaching is to love yourself\, to love your neighbor\, your enemy\, and to love the world and to understand the profound responsibility in doing all of these. He is a man who has the courage of his convictions and who speaks out and acts against war\, the manufacture of weapons and any situation where a human being might be at risk through violence. For evil to prevail requires only that good people sit on the sidelines and do nothing. John Dear is compelling all of us to stand up and take responsibility for the suffering of humanity so often caused through selfishness and greed.”
URL:https://tcsahub.org/event/internationally-reknown-author-and-speaker-john-dear/
LOCATION:Sacred Heart Church\, 1739 Ferry Ave\, Camden\, NJ\, 08104\, United States
CATEGORIES:Indoor Activity - Registration Required,Lecture - Registration Required
ATTACH;FMTTYPE=image/jpeg:https://tcsahub.org/wp-content/uploads/2018/08/John-Dear-mug.jpg
END:VEVENT
BEGIN:VEVENT
DTSTART;TZID=America/New_York:20180619T090000
DTEND;TZID=America/New_York:20180619T123000
DTSTAMP:20260419T161801
CREATED:20180603T203813Z
LAST-MODIFIED:20180618T103806Z
UID:1269-1529398800-1529411400@tcsahub.org
SUMMARY:Sustainability Speaker Series (S3)
DESCRIPTION:Each meeting focuses on a different topic around sustainability. For the June 2018 meeting\, Campbell’s Soup Company will be discussing all their efforts and success with food waste reduction. A representative that will be discussing what the Camden community as a whole is doing to meet sustainability goals. Event is free. Use this link for more information and required registration\, Sponsored by the Office of Sustainability\, a part of the Bureau of Energy & Sustainability of the New Jersey Department of Environmental Protection.
URL:https://tcsahub.org/event/sustainability-speaker-series-s3/
LOCATION:Campbell’s Soup Company\, 1 Campbells Place\, Camden\, NJ\, 08103\, United States
CATEGORIES:Lecture - Registration Required
END:VEVENT
BEGIN:VEVENT
DTSTART;TZID=America/New_York:20180613T120000
DTEND;TZID=America/New_York:20180613T133000
DTSTAMP:20260419T161801
CREATED:20180605T193511Z
LAST-MODIFIED:20180605T193615Z
UID:1293-1528891200-1528896600@tcsahub.org
SUMMARY:Lunch 'n Learn: Milkweed & Monarchs!
DESCRIPTION:Join us for a FREE “Lunch ‘n Learn” on Wednesday\, June 13th from 12-1:30pm at the CLHI Community Room in North Camden! Learn from local experts about planting and caring for milkweed in your urban and community gardens to support struggling monarch populations and introduce your children to BUTTERFLIES! Also learn about the threats to monarchs\, including climate change and loss of habitat. \nThis event is FREE but please RSVP in this event. LUNCH IS PROVIDED by our generous partner\, Sustainable Cherry Hill! \nThis “Lunch ‘n Learn” is being hosted by Camden Lutheran Housing\, Inc\, the Camden Block Supporter Initiative\, Sustainable Cherry Hill\, and Food & Water Watch – New Jersey.
URL:https://tcsahub.org/event/lunch-n-learn-milkweed-monarchs/
LOCATION:Camden Lutheran Housing\, 800 Galindez Ct Ste 10\, Camden\, 08102
CATEGORIES:Lecture - Registration Required
ATTACH;FMTTYPE=image/jpeg:https://tcsahub.org/wp-content/uploads/2018/06/Butterflies.jpg
END:VEVENT
END:VCALENDAR