BEGIN:VCALENDAR
VERSION:2.0
PRODID:-//TriCounty Sustainability Alliance - ECPv6.15.20//NONSGML v1.0//EN
CALSCALE:GREGORIAN
METHOD:PUBLISH
X-WR-CALNAME:TriCounty Sustainability Alliance
X-ORIGINAL-URL:https://tcsahub.org
X-WR-CALDESC:Events for TriCounty Sustainability Alliance
REFRESH-INTERVAL;VALUE=DURATION:PT1H
X-Robots-Tag:noindex
X-PUBLISHED-TTL:PT1H
BEGIN:VTIMEZONE
TZID:America/New_York
BEGIN:DAYLIGHT
TZOFFSETFROM:-0500
TZOFFSETTO:-0400
TZNAME:EDT
DTSTART:20170312T070000
END:DAYLIGHT
BEGIN:STANDARD
TZOFFSETFROM:-0400
TZOFFSETTO:-0500
TZNAME:EST
DTSTART:20171105T060000
END:STANDARD
BEGIN:DAYLIGHT
TZOFFSETFROM:-0500
TZOFFSETTO:-0400
TZNAME:EDT
DTSTART:20180311T070000
END:DAYLIGHT
BEGIN:STANDARD
TZOFFSETFROM:-0400
TZOFFSETTO:-0500
TZNAME:EST
DTSTART:20181104T060000
END:STANDARD
BEGIN:DAYLIGHT
TZOFFSETFROM:-0500
TZOFFSETTO:-0400
TZNAME:EDT
DTSTART:20190310T070000
END:DAYLIGHT
BEGIN:STANDARD
TZOFFSETFROM:-0400
TZOFFSETTO:-0500
TZNAME:EST
DTSTART:20191103T060000
END:STANDARD
END:VTIMEZONE
BEGIN:VEVENT
DTSTART;TZID=America/New_York:20180410T191500
DTEND;TZID=America/New_York:20180410T203000
DTSTAMP:20260420T004600
CREATED:20180304T155539Z
LAST-MODIFIED:20180304T155539Z
UID:1064-1523387700-1523392200@tcsahub.org
SUMMARY:Plants and Insect Hotels that Attract Beneficial Insects to Your Garden
DESCRIPTION:“Plants and Insect Hotels that Attract Beneficial Insects to Your Garden” with Keith Monahan\, an award-winning sustainability advocate. His work focuses on the sustainability of private and community gardens. As co-founder of the South Jersey Seed Circle Library\, he helped initiate a “Plant One for the Pollinators” program that freely distributes and encourages homeowners to plant flower seeds beneficial for pollinating insects. He is also head of the Habitat program at the Collingswood Community Garden\, where he was instrumental in the design and construction of a habitat plot that includes a stately insect hotel.  Horticultural Society of South Jersey.   Free and open to the public.
URL:https://tcsahub.org/event/plants-and-insect-hotels-that-attract-beneficial-insects-to-your-garden/
LOCATION:Carmen Tilelli Hall\, 820 Mercer Street\, Cherry Hill\, NJ\, 08002\, United States
CATEGORIES:Indoor Activity,Lecture
END:VEVENT
BEGIN:VEVENT
DTSTART;TZID=America/New_York:20180313T191500
DTEND;TZID=America/New_York:20180313T203000
DTSTAMP:20260420T004600
CREATED:20180210T200624Z
LAST-MODIFIED:20180210T200624Z
UID:1037-1520968500-1520973000@tcsahub.org
SUMMARY:Everything You Need to Know to Start Your Own Backyard Vegetable Garden
DESCRIPTION:Organic Vegetable Gardening—Everything You Need to Know to Start Your Own Backyard Vegetable Garden” with Julie Pierre\, owner and farmer at Our Yards Farm\, a suburban farm that transforms unused lawn space into productive vegetable gardens. Horticultural Society of South Jersey.   For more information\, check the website: www.hssj.org\, Facebook or call 856-287-5959. \nFree and open to the public. \n 
URL:https://tcsahub.org/event/everything-you-need-to-know-to-start-your-own-backyard-vegetable-garden/
LOCATION:Carmen Tilelli Hall\, 820 Mercer Street\, Cherry Hill\, NJ\, 08002\, United States
CATEGORIES:Indoor Activity,Lecture
END:VEVENT
BEGIN:VEVENT
DTSTART;TZID=America/New_York:20180305T180000
DTEND;TZID=America/New_York:20180305T200000
DTSTAMP:20260420T004600
CREATED:20180219T123459Z
LAST-MODIFIED:20180219T125601Z
UID:1044-1520272800-1520280000@tcsahub.org
SUMMARY:Sustainable South Jersey Meetup
DESCRIPTION:JOIN US for the next Sustainable South Jersey Meet Up\, featuring 3 new “lightning talks\,” open mic time\, delicious local food\, and great conversation! BYOB. Collingswood Public Library: Monday\, March 5th from 6-8pm! PLEASE COME OUT AND SHARE! \nDetails\n\nWHAT WE’LL DO: \n6:00pm: Doors open\, chat and snack.\n6:30pm: Engaging speakers presenting “Lightning (brief) Talks”\n7:00pm: Open mic with audience\n7:15pm: Networking / Open Discussion\n8:00pm: Farewell \nLIGHTNING TALK TOPICS: \nENERGY CONSERVATION! Learn about residential & commercial incentives from SJ Gas and NJ’s Clean Energy Program from Patrick McDevitt\, Energy Efficiency Program Coordinator for South Jersey Gas and Member of the Monroe Twp. Green Team! \nGREEN SPACE AND MENTAL HEALTH! Rachel McCormick is a pediatric nurse practitioner with an interest in how the environment and neighborhoods impact the health of children. She will be speaking about what we can learn from current research on access to green space and the mental well being of children. \nTHE HABITAT FOR HUMANITY RESTORE!: Hear how you can help reduce waste in landfills by donating your unwanted household items and furniture to your local ReStore from Tristan Keyster\, ReStore Director in Maple Shade. \nZERO WASTE AND LITTER PROGRAMS FOR THE CITY OF PHILADELPHIA!: Nic Esposito served as a PowerCorpsPHL project manager and later Sustainability Manager for Philadelphia Parks and Recreation and was then selected by the Managing Director’s Office to create a coordinated public / private sector plan to address Philadelphia’s litter problem\, part of an effort to set Philadelphia on a path to Zero Waste by 2035. \nOPEN MIC!: a little time for all of us! Share your announcements\, passions\, etc. in one minute or less on the mic. \nWHAT TO BRING:\nLight appetizers provided\, but please BYOB if you would like to have adult beverages during the Meetup! \nIMPORTANT TO KNOW:\nEvent is free but we ask for a firm RSVP via Meetup or Facebook! \nSponsored by Sustainable Cherry Hill\nCo-hosted by Tri-County Sustainability Alliance\, The Collingswood Library\, and Sustainable Cherry Hill
URL:https://tcsahub.org/event/sustainable-south-jersey-meetup-2/
LOCATION:NJ
CATEGORIES:Indoor Activity,Lecture and Group Discussion
ATTACH;FMTTYPE=image/jpeg:https://tcsahub.org/wp-content/uploads/2018/02/IMG-3627.jpg
END:VEVENT
END:VCALENDAR