BEGIN:VCALENDAR
VERSION:2.0
PRODID:-//TriCounty Sustainability Alliance - ECPv6.15.20//NONSGML v1.0//EN
CALSCALE:GREGORIAN
METHOD:PUBLISH
X-WR-CALNAME:TriCounty Sustainability Alliance
X-ORIGINAL-URL:https://tcsahub.org
X-WR-CALDESC:Events for TriCounty Sustainability Alliance
REFRESH-INTERVAL;VALUE=DURATION:PT1H
X-Robots-Tag:noindex
X-PUBLISHED-TTL:PT1H
BEGIN:VTIMEZONE
TZID:America/New_York
BEGIN:DAYLIGHT
TZOFFSETFROM:-0500
TZOFFSETTO:-0400
TZNAME:EDT
DTSTART:20180311T070000
END:DAYLIGHT
BEGIN:STANDARD
TZOFFSETFROM:-0400
TZOFFSETTO:-0500
TZNAME:EST
DTSTART:20181104T060000
END:STANDARD
BEGIN:DAYLIGHT
TZOFFSETFROM:-0500
TZOFFSETTO:-0400
TZNAME:EDT
DTSTART:20190310T070000
END:DAYLIGHT
BEGIN:STANDARD
TZOFFSETFROM:-0400
TZOFFSETTO:-0500
TZNAME:EST
DTSTART:20191103T060000
END:STANDARD
BEGIN:DAYLIGHT
TZOFFSETFROM:-0500
TZOFFSETTO:-0400
TZNAME:EDT
DTSTART:20200308T070000
END:DAYLIGHT
BEGIN:STANDARD
TZOFFSETFROM:-0400
TZOFFSETTO:-0500
TZNAME:EST
DTSTART:20201101T060000
END:STANDARD
END:VTIMEZONE
BEGIN:VEVENT
DTSTART;TZID=America/New_York:20190219T190000
DTEND;TZID=America/New_York:20190219T210000
DTSTAMP:20260419T175503
CREATED:20190217T114759Z
LAST-MODIFIED:20190217T114759Z
UID:1891-1550602800-1550610000@tcsahub.org
SUMMARY:Green Drinks/Sustainable Sips
DESCRIPTION:Our WTEC is joining forces with the Hammonton Green Team and the Tri-County Sustainability Alliance (TriCSA) to host our first-ever Green Drinks/Sustainable Sips Event! It will be held at Atco’s Rack’s. This is a time for neighboring ECs and Green Teams to come together for sharing ideas while sampling food & drinks from Rack’s menu. See you on Feb. 19th\, from 7:00 – 9: 00!
URL:https://tcsahub.org/event/green-drinks-sustainable-sips/
LOCATION:Rack’s\, 286 White Horse Pike\, Atco\, NJ\, 08004\, United States
CATEGORIES:Indoor Activity,Networking,Social Event
ATTACH;FMTTYPE=image/jpeg:https://tcsahub.org/wp-content/uploads/2018/09/PettyIslandBirds.jpg
ORGANIZER;CN="Waterford Township Environmental Commision":MAILTO:daveterriidaho@verizon.net
END:VEVENT
BEGIN:VEVENT
DTSTART;TZID=America/New_York:20190129T190000
DTEND;TZID=America/New_York:20190129T203000
DTSTAMP:20260419T175503
CREATED:20190127T173516Z
LAST-MODIFIED:20190127T174250Z
UID:1808-1548788400-1548793800@tcsahub.org
SUMMARY:TriCSA Planning Meeting
DESCRIPTION:All are welcome to attend Tri-County Sustainability Alliance planning meetings (which occur every other month).  Meet active sustainability enthusiasts.  We share resources and local news.  We plan our future events (the best way to get involved is to volunteer!). \nMeetings start and end promptly (7pm-8:30pm) \n\nMeeting Location Details: \nCamden County Environmental Center  1301 Park Boulevard Cherry Hill\, NJ 08002.  Note: Use this google maps link (some GPS systems are confused by street address). \nUse second set of doors farthest from the parking lot. \nWe are in the room to the immediate left as you enter.  Sometimes we are in the room up the hall (please ignore the staff only sign) and walk up the hall. \n\nTo get a copy of the agenda or to be added to our email list\, send email to theTriCSA@gmail.com
URL:https://tcsahub.org/event/tricsa-planning-meeting-4/
LOCATION:Camden County Environmental Center\, 1301 Park Boulevard\, Cherry Hill\, NJ\, 08002\, United States
CATEGORIES:Meeting,Networking
ATTACH;FMTTYPE=image/jpeg:https://tcsahub.org/wp-content/uploads/2019/01/TriCSA-with-wave.jpg
END:VEVENT
END:VCALENDAR