BEGIN:VCALENDAR
VERSION:2.0
PRODID:-//TriCounty Sustainability Alliance - ECPv6.15.20//NONSGML v1.0//EN
CALSCALE:GREGORIAN
METHOD:PUBLISH
X-ORIGINAL-URL:https://tcsahub.org
X-WR-CALDESC:Events for TriCounty Sustainability Alliance
REFRESH-INTERVAL;VALUE=DURATION:PT1H
X-Robots-Tag:noindex
X-PUBLISHED-TTL:PT1H
BEGIN:VTIMEZONE
TZID:America/New_York
BEGIN:DAYLIGHT
TZOFFSETFROM:-0500
TZOFFSETTO:-0400
TZNAME:EDT
DTSTART:20170312T070000
END:DAYLIGHT
BEGIN:STANDARD
TZOFFSETFROM:-0400
TZOFFSETTO:-0500
TZNAME:EST
DTSTART:20171105T060000
END:STANDARD
BEGIN:DAYLIGHT
TZOFFSETFROM:-0500
TZOFFSETTO:-0400
TZNAME:EDT
DTSTART:20180311T070000
END:DAYLIGHT
BEGIN:STANDARD
TZOFFSETFROM:-0400
TZOFFSETTO:-0500
TZNAME:EST
DTSTART:20181104T060000
END:STANDARD
BEGIN:DAYLIGHT
TZOFFSETFROM:-0500
TZOFFSETTO:-0400
TZNAME:EDT
DTSTART:20190310T070000
END:DAYLIGHT
BEGIN:STANDARD
TZOFFSETFROM:-0400
TZOFFSETTO:-0500
TZNAME:EST
DTSTART:20191103T060000
END:STANDARD
END:VTIMEZONE
BEGIN:VEVENT
DTSTART;TZID=America/New_York:20181103T100000
DTEND;TZID=America/New_York:20181103T130000
DTSTAMP:20260419T162654
CREATED:20181020T204311Z
LAST-MODIFIED:20181031T011634Z
UID:1613-1541239200-1541250000@tcsahub.org
SUMMARY:Kirkwood Lake Cleanup
DESCRIPTION:Join South Jersey Land and Water Trust for a Community Cleanup of Kirkwood Lake on Saturday\, November 3rd\, from 10:00am-1:00pm We will meet at the end of Pinelawn Avenue and clean the trails that run through the park. After the cleanup we will take a nature walk on the trail system.\n\n\nDirections: Take Rt.30 east\, make left onto White Horse Road\, right onto Berlin Road\, left onto Pinelawn Ave. We will meet at the end of the street. Bags\, gloves and grabbers will be supplied. \n\nPlease RVSP to Michael Hogan.\nFor more information and a map\, please contact Michael Hogan at  609-476-2086 or email him at: hoganphoto@verizon.net
URL:https://tcsahub.org/event/kirkwood-lake-cleanup-2/
LOCATION:Kirkwood Lake Park\, Pinelawn Ave\, Lindenwold\, NJ\, 08021\, United States
CATEGORIES:Cleanup,Outdoor Activity
ATTACH;FMTTYPE=image/jpeg:https://tcsahub.org/wp-content/uploads/2018/10/kirkwood-lake-cleanup.jpg
END:VEVENT
BEGIN:VEVENT
DTSTART;TZID=America/New_York:20181027T100000
DTEND;TZID=America/New_York:20181027T120000
DTSTAMP:20260419T162654
CREATED:20181008T095416Z
LAST-MODIFIED:20181008T095416Z
UID:1582-1540634400-1540641600@tcsahub.org
SUMMARY:Camden Greenway Cleanup
DESCRIPTION:Join us for a Community Cleanup of the Camden Greenway Trail along Cooper River. We will clean up the roadsides along Baird Blvd. and the area trails. After the cleanup Michael Hogan will lead a history and native/non native plant walk. We will meet along Baird Blvd. across from the old Camden High School site. Gloves\, bags and grabbers will be supplied. Please RSVP to Michael Hogan\, 609-476-2086/hoganphoto@verizon.net.
URL:https://tcsahub.org/event/camden-greenway-cleanup-2/
LOCATION:Camden Greenway\, Baird Blvd.\, Camden
CATEGORIES:Cleanup
ATTACH;FMTTYPE=image/jpeg:https://tcsahub.org/wp-content/uploads/2018/10/agriculture-close-up-cultivation-169523.jpg
END:VEVENT
BEGIN:VEVENT
DTSTART;TZID=America/New_York:20181020T100000
DTEND;TZID=America/New_York:20181020T120000
DTSTAMP:20260419T162654
CREATED:20181008T095511Z
LAST-MODIFIED:20181008T095925Z
UID:1580-1540029600-1540036800@tcsahub.org
SUMMARY:Oldmans Creek Preserve Workday - Gardening
DESCRIPTION:Calling all gardeners! We need help sprucing up the gardens around Oldmans Creek Preserve. Please volunteer with us for our October OCP Workday. No gardening experience required! All tools and gloves will be provided.
URL:https://tcsahub.org/event/oldmans-creek-preserve-workday-gardens/
LOCATION:Oldmans Creek Preserve\, 21 Main St\, Auburn\, NJ\, 08085\, United States
CATEGORIES:Cleanup
ATTACH;FMTTYPE=image/jpeg:https://tcsahub.org/wp-content/uploads/2018/10/agriculture-backyard-blur-296230.jpg
END:VEVENT
BEGIN:VEVENT
DTSTART;TZID=America/New_York:20181020T090000
DTEND;TZID=America/New_York:20181020T120000
DTSTAMP:20260419T162654
CREATED:20180914T105433Z
LAST-MODIFIED:20180914T105918Z
UID:1526-1540026000-1540036800@tcsahub.org
SUMMARY:Cleanup at Willingboro Lakes Park
DESCRIPTION:We need you to help clean up.  Individuals\, groups\, and organizations are welcome. \nBags\, gloves\, grabbers\, light refreshments\, and water to refill your reusable water bottle are provided. Free shopping tote to all volunteers. Event is rain or shine. \nTo register\, email cleancomm@co.burlington.nj.us \nParticipants younger that 16 must be accompanied by an adult.
URL:https://tcsahub.org/event/cleanup-at-amico-island-park-2/
LOCATION:Willingboro Lakes Park\, 4154 N Rt. 130\, Beverly\, NJ\, 08010\, United States
CATEGORIES:Cleanup,Outdoor Activity
ATTACH;FMTTYPE=image/jpeg:https://tcsahub.org/wp-content/uploads/2018/09/Cleanup.jpg
ORGANIZER;CN="Burlington County Freeholders":MAILTO:recycling@otcbc.org
END:VEVENT
BEGIN:VEVENT
DTSTART;TZID=America/New_York:20181013T090000
DTEND;TZID=America/New_York:20181013T110000
DTSTAMP:20260419T162654
CREATED:20181008T095604Z
LAST-MODIFIED:20181008T095604Z
UID:1577-1539421200-1539428400@tcsahub.org
SUMMARY:Camden Waterfront Cleanup
DESCRIPTION:Help us keep New Jersey clean\, green\, and pristine! Join us for a cleanup of the Camden Waterfront. We will meet on Pearl St. next to Campbell Field and start from there. We’ll pick up trash around the area and learn about the natural history of the waterfront. Tools\, grabbers\, and gloves will be provided.
URL:https://tcsahub.org/event/camden-waterfront-cleanup/
LOCATION:Camden Water Front\, 1625 Wildwood Ave\, Camden\, 080103
CATEGORIES:Cleanup
END:VEVENT
BEGIN:VEVENT
DTSTART;TZID=America/New_York:20181006T090000
DTEND;TZID=America/New_York:20181006T120000
DTSTAMP:20260419T162654
CREATED:20180914T105057Z
LAST-MODIFIED:20180914T105057Z
UID:1519-1538816400-1538827200@tcsahub.org
SUMMARY:Cleanup at Amico Island Park
DESCRIPTION:We need you to help clean up.  Individuals\, groups\, and organizations are welcome. \nBags\, gloves\, grabbers\, light refreshments\, and water to refill your reusable water bottle are provided. Free shopping tote to all volunteers. Event is rain or shine. \nTo register\, email cleancomm@co.burlington.nj.us \nParticipants younger that 16 must be accompanied by an adult.
URL:https://tcsahub.org/event/cleanup-at-amico-island-park/
LOCATION:Amico Island Park\, 81 Norman Ave\, Delran\, NJ\, 08075\, United States
CATEGORIES:Cleanup,Outdoor Activity
ATTACH;FMTTYPE=image/jpeg:https://tcsahub.org/wp-content/uploads/2018/09/Cleanup.jpg
ORGANIZER;CN="Burlington County Freeholders":MAILTO:recycling@otcbc.org
END:VEVENT
BEGIN:VEVENT
DTSTART;TZID=America/New_York:20181006T083000
DTEND;TZID=America/New_York:20181006T120000
DTSTAMP:20260419T162654
CREATED:20180809T113346Z
LAST-MODIFIED:20180809T113346Z
UID:1454-1538814600-1538827200@tcsahub.org
SUMMARY:Petty’s Island Community Clean Up Day
DESCRIPTION:Petty’s Island is privately-owned and is in the midst of an amazing transformation from an active marine terminal and oil storage facility into a public park. Access to the island is limited\, so don’t miss this opportunity to see the island and help in its transformation. We will be doing a cleanup of the shoreline where marine debris threatens the health of wildlife and humans. Water and light refreshments served.\nChildren MUST be 12 and older to participate. Registration is REQUIRED for this event; space is limited. Directions and other details are given upon registration. \nHere’s your chance to be part of the restoration of Petty’s Island. Join our team of enthusiastic volunteers to help clean up and restore the shoreline of this majestic island as part of the larger restoration project taking place. This cleanup is great for scout\, religious\, after school and other civic groups looking for a local volunteer project. \nRegistration opens August 29.
URL:https://tcsahub.org/event/pettys-island-community-clean-up-day/
LOCATION:Pettys Island\, 36th Street and Harrison Avenue\, Pennsauken\, NJ\, United States
CATEGORIES:Cleanup,Outdoor Activity,Outdoor event - Registration required
ATTACH;FMTTYPE=image/jpeg:https://tcsahub.org/wp-content/uploads/2018/08/PettyIslandCleanupjpg.jpg
ORGANIZER;CN="New Jersey Audubon":MAILTO:hq@njaudubon.org
END:VEVENT
BEGIN:VEVENT
DTSTART;TZID=America/New_York:20180728T090000
DTEND;TZID=America/New_York:20180728T110000
DTSTAMP:20260419T162654
CREATED:20180728T115623Z
LAST-MODIFIED:20180728T115623Z
UID:1417-1532768400-1532775600@tcsahub.org
SUMMARY:Move with meditation
DESCRIPTION:Join lululemon Cherry Hill as we tackle single-use plastics in the form of plastic straws. We will be meeting at The Palmyra Nature Cove promptly at 9am where Lifetime Fitness’s Lisa Gonzalez  will lead us through a walking mediation. We will be building awareness through our stroll  with natures sounds\, smells and beauty. \nAfter our walk we will follow the Delaware River bank back to the parking lot collecting straws as we go. \nOur last event collected over 1000 straws and we hope to crush it this time! \n  \nYou can find the event page page by searching lululemon south jersey on Facebook or by following the link below! \nhttps://info.lululemon.com/stores/us/new-jersey/cherry-hill/events/move-with-meditation-cleanse-
URL:https://tcsahub.org/event/move-with-meditation/
LOCATION:palmyra nature cove
CATEGORIES:Cleanup
ATTACH;FMTTYPE=image/jpeg:https://tcsahub.org/wp-content/uploads/2018/07/406C3268-033D-4A33-A2FF-70056485FFD3.jpeg
END:VEVENT
BEGIN:VEVENT
DTSTART;TZID=America/New_York:20180714T100000
DTEND;TZID=America/New_York:20180714T120000
DTSTAMP:20260419T162654
CREATED:20180704T113040Z
LAST-MODIFIED:20180704T113040Z
UID:1373-1531562400-1531569600@tcsahub.org
SUMMARY:Signal Hill Cleanup at the Borough of Pine Hill
DESCRIPTION:Volunteers needed! Join us for a cleanup of Signal Hill on July 14th. Please wear appropriate clothes and shoes. Bags\, gloves and grabbers will be supplied.We hope you’ll come help us keep our local environment clean! \nLocation: Signal Hill Tract in Clementon\, NJ\nMeet at the end of Davis Ave \nFor more information and maps contact Michael Hogan at 609-476-2086/ hoganphoto@verizon.net.
URL:https://tcsahub.org/event/signal-hill-cleanup-at-the-borough-of-pine-hill/
LOCATION:Signal Hill Clementon\, Signal Hill Tract in Clementon\, NJ Meet at the end of Davis Ave\, clementon\, NJ\, 08021\, United States
CATEGORIES:Cleanup
ATTACH;FMTTYPE=image/jpeg:https://tcsahub.org/wp-content/uploads/2018/07/YellowAndWhiteOrchid.jpg
END:VEVENT
BEGIN:VEVENT
DTSTART;TZID=America/New_York:20180623T100000
DTEND;TZID=America/New_York:20180623T140000
DTSTAMP:20260419T162654
CREATED:20180617T100411Z
LAST-MODIFIED:20180617T102610Z
UID:1319-1529748000-1529762400@tcsahub.org
SUMMARY:Pine Barrens Clean Up - Volunteer with PPA
DESCRIPTION:Help us clean up a site in the Pine Barrens that has suffered from illegal dumping. \nAfter we clean up the site the landowner (Winzinger Corporation) will bring concrete barriers to prevent future dumping and illegal ORV use. This will also help protect nearby parts of Greenwood Wildlife Management Area. Meet in Chatsworth and carpool to the site. Directions will be sent after you register. \nThis is event is organized by the Pinelands Preservation Alliance. Contact Jason if you have questions (email) is jason@pinelandsalliance.org and phone is 609-859-8860 ext 125.
URL:https://tcsahub.org/event/pine-barrens-clean-up-volunteer-with-ppa/
LOCATION:Chatsworth NJ\, Chatsworth\, 08019
CATEGORIES:Cleanup
ATTACH;FMTTYPE=image/jpeg:https://tcsahub.org/wp-content/uploads/2018/06/Pinelands.jpg
END:VEVENT
BEGIN:VEVENT
DTSTART;TZID=America/New_York:20180623T100000
DTEND;TZID=America/New_York:20180623T120000
DTSTAMP:20260419T162654
CREATED:20180603T202820Z
LAST-MODIFIED:20180603T202820Z
UID:1264-1529748000-1529755200@tcsahub.org
SUMMARY:Kirkwood Lake Cleanup
DESCRIPTION:Join us for a cleanup of Kirkwood Lake. We will be cleaning up along the lake side and afterwards we will talk about the historical and natural aspects of the area. We will meet at Kirkwood Lake County Park in Lindenwold\, NJ\nPlease wear appropriate clothing\, bags and gloves will be provided\nFor more information and maps contact Michael Hogan at 609-476-2086/ hoganphoto@verizon.net.
URL:https://tcsahub.org/event/kirkwood-lake-cleanup/
LOCATION:Kirkwood Lake Park\, Pinelawn Ave\, Lindenwold\, NJ\, 08021\, United States
CATEGORIES:Cleanup,Outdoor Activity
ATTACH;FMTTYPE=image/jpeg:https://tcsahub.org/wp-content/uploads/2018/06/KirkwoodLake.jpg
END:VEVENT
BEGIN:VEVENT
DTSTART;TZID=America/New_York:20180428T090000
DTEND;TZID=America/New_York:20180428T113000
DTSTAMP:20260419T162654
CREATED:20180417T090524Z
LAST-MODIFIED:20180417T091036Z
UID:1212-1524906000-1524915000@tcsahub.org
SUMMARY:Mt Laurel Cleanup Day
DESCRIPTION:Help beautify Mt Laurel by cleaning up litter. Volunteers of all ages are welcome. Gloves and bags will be provided. Please register with Jerry Mascia\, Director of Municipal Services jmascia@mountlaurel.com  or calling (856) 234-0001 x 1223.  Join us back at the Community Center at 11:15am for snacks and prizes for unusual items found.
URL:https://tcsahub.org/event/mt-laurel-cleanup-day/
CATEGORIES:Cleanup,Outdoor Activity
ATTACH;FMTTYPE=image/jpeg:https://tcsahub.org/wp-content/uploads/2018/04/CommunityCleanupImage.jpg
END:VEVENT
END:VCALENDAR