BEGIN:VCALENDAR
VERSION:2.0
PRODID:-//TriCounty Sustainability Alliance - ECPv6.15.20//NONSGML v1.0//EN
CALSCALE:GREGORIAN
METHOD:PUBLISH
X-WR-CALNAME:TriCounty Sustainability Alliance
X-ORIGINAL-URL:https://tcsahub.org
X-WR-CALDESC:Events for TriCounty Sustainability Alliance
REFRESH-INTERVAL;VALUE=DURATION:PT1H
X-Robots-Tag:noindex
X-PUBLISHED-TTL:PT1H
BEGIN:VTIMEZONE
TZID:America/New_York
BEGIN:DAYLIGHT
TZOFFSETFROM:-0500
TZOFFSETTO:-0400
TZNAME:EDT
DTSTART:20170312T070000
END:DAYLIGHT
BEGIN:STANDARD
TZOFFSETFROM:-0400
TZOFFSETTO:-0500
TZNAME:EST
DTSTART:20171105T060000
END:STANDARD
BEGIN:DAYLIGHT
TZOFFSETFROM:-0500
TZOFFSETTO:-0400
TZNAME:EDT
DTSTART:20180311T070000
END:DAYLIGHT
BEGIN:STANDARD
TZOFFSETFROM:-0400
TZOFFSETTO:-0500
TZNAME:EST
DTSTART:20181104T060000
END:STANDARD
BEGIN:DAYLIGHT
TZOFFSETFROM:-0500
TZOFFSETTO:-0400
TZNAME:EDT
DTSTART:20190310T070000
END:DAYLIGHT
BEGIN:STANDARD
TZOFFSETFROM:-0400
TZOFFSETTO:-0500
TZNAME:EST
DTSTART:20191103T060000
END:STANDARD
END:VTIMEZONE
BEGIN:VEVENT
DTSTART;TZID=America/New_York:20180623T100000
DTEND;TZID=America/New_York:20180623T120000
DTSTAMP:20260419T181354
CREATED:20180603T202820Z
LAST-MODIFIED:20180603T202820Z
UID:1264-1529748000-1529755200@tcsahub.org
SUMMARY:Kirkwood Lake Cleanup
DESCRIPTION:Join us for a cleanup of Kirkwood Lake. We will be cleaning up along the lake side and afterwards we will talk about the historical and natural aspects of the area. We will meet at Kirkwood Lake County Park in Lindenwold\, NJ\nPlease wear appropriate clothing\, bags and gloves will be provided\nFor more information and maps contact Michael Hogan at 609-476-2086/ hoganphoto@verizon.net.
URL:https://tcsahub.org/event/kirkwood-lake-cleanup/
LOCATION:Kirkwood Lake Park\, Pinelawn Ave\, Lindenwold\, NJ\, 08021\, United States
CATEGORIES:Cleanup,Outdoor Activity
ATTACH;FMTTYPE=image/jpeg:https://tcsahub.org/wp-content/uploads/2018/06/KirkwoodLake.jpg
END:VEVENT
BEGIN:VEVENT
DTSTART;TZID=America/New_York:20180428T090000
DTEND;TZID=America/New_York:20180428T113000
DTSTAMP:20260419T181354
CREATED:20180417T090524Z
LAST-MODIFIED:20180417T091036Z
UID:1212-1524906000-1524915000@tcsahub.org
SUMMARY:Mt Laurel Cleanup Day
DESCRIPTION:Help beautify Mt Laurel by cleaning up litter. Volunteers of all ages are welcome. Gloves and bags will be provided. Please register with Jerry Mascia\, Director of Municipal Services jmascia@mountlaurel.com  or calling (856) 234-0001 x 1223.  Join us back at the Community Center at 11:15am for snacks and prizes for unusual items found.
URL:https://tcsahub.org/event/mt-laurel-cleanup-day/
LOCATION:NJ
CATEGORIES:Cleanup,Outdoor Activity
ATTACH;FMTTYPE=image/jpeg:https://tcsahub.org/wp-content/uploads/2018/04/CommunityCleanupImage.jpg
END:VEVENT
END:VCALENDAR