BEGIN:VCALENDAR
VERSION:2.0
PRODID:-//TriCounty Sustainability Alliance - ECPv6.15.20//NONSGML v1.0//EN
CALSCALE:GREGORIAN
METHOD:PUBLISH
X-ORIGINAL-URL:https://tcsahub.org
X-WR-CALDESC:Events for TriCounty Sustainability Alliance
REFRESH-INTERVAL;VALUE=DURATION:PT1H
X-Robots-Tag:noindex
X-PUBLISHED-TTL:PT1H
BEGIN:VTIMEZONE
TZID:America/New_York
BEGIN:DAYLIGHT
TZOFFSETFROM:-0500
TZOFFSETTO:-0400
TZNAME:EDT
DTSTART:20170312T070000
END:DAYLIGHT
BEGIN:STANDARD
TZOFFSETFROM:-0400
TZOFFSETTO:-0500
TZNAME:EST
DTSTART:20171105T060000
END:STANDARD
BEGIN:DAYLIGHT
TZOFFSETFROM:-0500
TZOFFSETTO:-0400
TZNAME:EDT
DTSTART:20180311T070000
END:DAYLIGHT
BEGIN:STANDARD
TZOFFSETFROM:-0400
TZOFFSETTO:-0500
TZNAME:EST
DTSTART:20181104T060000
END:STANDARD
BEGIN:DAYLIGHT
TZOFFSETFROM:-0500
TZOFFSETTO:-0400
TZNAME:EDT
DTSTART:20190310T070000
END:DAYLIGHT
BEGIN:STANDARD
TZOFFSETFROM:-0400
TZOFFSETTO:-0500
TZNAME:EST
DTSTART:20191103T060000
END:STANDARD
END:VTIMEZONE
BEGIN:VEVENT
DTSTART;TZID=America/New_York:20180422T100000
DTEND;TZID=America/New_York:20180422T120000
DTSTAMP:20260420T062402
CREATED:20180402T175932Z
LAST-MODIFIED:20180402T175932Z
UID:1169-1524391200-1524398400@tcsahub.org
SUMMARY:Cooper River Park Cleanup
DESCRIPTION:Join South Jersey Land and Water Trust to cleanup Cooper River Park. \n\n\n\nBags\, grabbers and gloves will be provided. It may be wet\, please wear boots.  Please RVSP For more information and map contact Michael Hogan Stewards of Open Space Camden County 609-476-2086/hoganphoto@verizon.net
URL:https://tcsahub.org/event/cooper-river-park-cleanup/
LOCATION:Camden County Environmental Center\, 1301 Park Boulevard\, Cherry Hill\, NJ\, 08002\, United States
CATEGORIES:Outdoor event - Registration required
ATTACH;FMTTYPE=image/png:https://tcsahub.org/wp-content/uploads/2018/03/SpringCleanup.png
END:VEVENT
BEGIN:VEVENT
DTSTART;TZID=America/New_York:20180407T100000
DTEND;TZID=America/New_York:20180407T120000
DTSTAMP:20260420T062402
CREATED:20180330T200953Z
LAST-MODIFIED:20180330T200953Z
UID:1149-1523095200-1523102400@tcsahub.org
SUMMARY:Oldmans Creek Preserve Workday and Walk
DESCRIPTION:Come out to our beautiful Oldmans Creek Preserve and help maintain our preserve for the public! We will be cleaning up\, managing trails and beautifying the land. Afterwards\, take a guided hike with our Land Steward\, Phil Arsenault He will guide you through the preserve talking about native flora and fauna and the best times to bird on the preserve! Bring water\, comfortable clothes\, shoes and your camera! Contact contact@sjlandwater.org for details.\n\n\n\n\n 
URL:https://tcsahub.org/event/oldmans-creek-preserve-workday-and-walk/
LOCATION:Oldmans Creek Preserve\, 21 Main St\, Auburn\, NJ\, 08085\, United States
CATEGORIES:Outdoor Activity
END:VEVENT
END:VCALENDAR