BEGIN:VCALENDAR
VERSION:2.0
PRODID:-//TriCounty Sustainability Alliance - ECPv6.15.20//NONSGML v1.0//EN
CALSCALE:GREGORIAN
METHOD:PUBLISH
X-ORIGINAL-URL:https://tcsahub.org
X-WR-CALDESC:Events for TriCounty Sustainability Alliance
REFRESH-INTERVAL;VALUE=DURATION:PT1H
X-Robots-Tag:noindex
X-PUBLISHED-TTL:PT1H
BEGIN:VTIMEZONE
TZID:America/New_York
BEGIN:DAYLIGHT
TZOFFSETFROM:-0500
TZOFFSETTO:-0400
TZNAME:EDT
DTSTART:20180311T070000
END:DAYLIGHT
BEGIN:STANDARD
TZOFFSETFROM:-0400
TZOFFSETTO:-0500
TZNAME:EST
DTSTART:20181104T060000
END:STANDARD
BEGIN:DAYLIGHT
TZOFFSETFROM:-0500
TZOFFSETTO:-0400
TZNAME:EDT
DTSTART:20190310T070000
END:DAYLIGHT
BEGIN:STANDARD
TZOFFSETFROM:-0400
TZOFFSETTO:-0500
TZNAME:EST
DTSTART:20191103T060000
END:STANDARD
BEGIN:DAYLIGHT
TZOFFSETFROM:-0500
TZOFFSETTO:-0400
TZNAME:EDT
DTSTART:20200308T070000
END:DAYLIGHT
BEGIN:STANDARD
TZOFFSETFROM:-0400
TZOFFSETTO:-0500
TZNAME:EST
DTSTART:20201101T060000
END:STANDARD
END:VTIMEZONE
BEGIN:VEVENT
DTSTART;TZID=America/New_York:20190514T190000
DTEND;TZID=America/New_York:20190514T210000
DTSTAMP:20260419T212441
CREATED:20190421T141334Z
LAST-MODIFIED:20190422T102313Z
UID:2023-1557860400-1557867600@tcsahub.org
SUMMARY:Plant Swap presented by the Horticultural Society of South Jersey
DESCRIPTION:May 14\, 2019 from 7pm to 9pm–Plant Swap presented by the Horticultural Society of South Jersey. Free and open to the public. Come and share your plant abundance with members and guests. Suggested plants include houseplants\, seedlings\, seeds\, bulbs\, succulents and cacti\, water plants and clean garden tools in good condition. No invasive\, sick\, or insect-infested plants. If potting up plants from the garden\, please do so a couple days in advance. Please I.D. your plant and list growing instructions. Carman Tilelli Community Center\, 820 Mercer Street\, Cherry Hill\, NJ 08002.  For more information\, call 856-287-5959 or go to WWW.HSSJ.org. https://www.facebook.com/events/423271701582121/
URL:https://tcsahub.org/event/plant-swap-presented-by-the-horticultural-society-of-south-jersey/
LOCATION:Carmen Tilelli Hall\, 820 Mercer Street\, Cherry Hill\, NJ\, 08002\, United States
CATEGORIES:Plant Swap
ATTACH;FMTTYPE=image/jpeg:https://tcsahub.org/wp-content/uploads/2019/04/HSSJ-plant-swap-009-1.jpg
END:VEVENT
BEGIN:VEVENT
DTSTART;TZID=America/New_York:20190505T130000
DTEND;TZID=America/New_York:20190505T143000
DTSTAMP:20260419T212441
CREATED:20190327T202733Z
LAST-MODIFIED:20190327T202733Z
UID:1992-1557061200-1557066600@tcsahub.org
SUMMARY:Plant Swap!
DESCRIPTION:Sunday\, May 5th from  1-2:30pm \nCollingswood Library\, 771 Haddon Ave\, Collingswood\, NJ \nCalling all plant lovers! Bring your extra veggie/flower seedlings\, perennial divisions\, bulbs\, shrubs\, healthy house plants\, or just come empty handed\, and leave with new (to you) plant varieties. Please place your plants in containers\, label them as well as possible and make sure they are non-invasive\, as well as pest & disease-free. The SJ Seed Circle Library will be on hand with seeds that you can plant now. \nFree and open to the public. \nFor more information go to the Facebook event page here or call (856) 425-2221. 
URL:https://tcsahub.org/event/plant-swap/
LOCATION:Collingswood Library\, 771 Haddon Avenue\, Collingswood\, NJ\, United States
CATEGORIES:Educational,Plant Swap
ATTACH;FMTTYPE=image/jpeg:https://tcsahub.org/wp-content/uploads/2019/03/plant-swap-May-9.jpg
END:VEVENT
END:VCALENDAR