BEGIN:VCALENDAR
VERSION:2.0
PRODID:-//TriCounty Sustainability Alliance - ECPv6.15.20//NONSGML v1.0//EN
CALSCALE:GREGORIAN
METHOD:PUBLISH
X-WR-CALNAME:TriCounty Sustainability Alliance
X-ORIGINAL-URL:https://tcsahub.org
X-WR-CALDESC:Events for TriCounty Sustainability Alliance
REFRESH-INTERVAL;VALUE=DURATION:PT1H
X-Robots-Tag:noindex
X-PUBLISHED-TTL:PT1H
BEGIN:VTIMEZONE
TZID:America/New_York
BEGIN:DAYLIGHT
TZOFFSETFROM:-0500
TZOFFSETTO:-0400
TZNAME:EDT
DTSTART:20170312T070000
END:DAYLIGHT
BEGIN:STANDARD
TZOFFSETFROM:-0400
TZOFFSETTO:-0500
TZNAME:EST
DTSTART:20171105T060000
END:STANDARD
BEGIN:DAYLIGHT
TZOFFSETFROM:-0500
TZOFFSETTO:-0400
TZNAME:EDT
DTSTART:20180311T070000
END:DAYLIGHT
BEGIN:STANDARD
TZOFFSETFROM:-0400
TZOFFSETTO:-0500
TZNAME:EST
DTSTART:20181104T060000
END:STANDARD
BEGIN:DAYLIGHT
TZOFFSETFROM:-0500
TZOFFSETTO:-0400
TZNAME:EDT
DTSTART:20190310T070000
END:DAYLIGHT
BEGIN:STANDARD
TZOFFSETFROM:-0400
TZOFFSETTO:-0500
TZNAME:EST
DTSTART:20191103T060000
END:STANDARD
BEGIN:DAYLIGHT
TZOFFSETFROM:-0500
TZOFFSETTO:-0400
TZNAME:EDT
DTSTART:20200308T070000
END:DAYLIGHT
BEGIN:STANDARD
TZOFFSETFROM:-0400
TZOFFSETTO:-0500
TZNAME:EST
DTSTART:20201101T060000
END:STANDARD
BEGIN:DAYLIGHT
TZOFFSETFROM:-0500
TZOFFSETTO:-0400
TZNAME:EDT
DTSTART:20210314T070000
END:DAYLIGHT
BEGIN:STANDARD
TZOFFSETFROM:-0400
TZOFFSETTO:-0500
TZNAME:EST
DTSTART:20211107T060000
END:STANDARD
END:VTIMEZONE
BEGIN:VEVENT
DTSTART;TZID=America/New_York:20200422T140000
DTEND;TZID=America/New_York:20200422T193000
DTSTAMP:20260419T193851
CREATED:20200309T161406Z
LAST-MODIFIED:20200309T163202Z
UID:2559-1587564000-1587583800@tcsahub.org
SUMMARY:Earth Day: 50th Anniversary Party!
DESCRIPTION:Come out and celebrate the Golden Anniversary of Earth Day (Wednesday\, 22-APRIL-2020) on beautiful 103 acre Newton Lake Park. ALL ARE WELCOME! Events include: \n\nGuided Ecology Walk with Camden County’s Environmental Educator\nGreen Yoga (Class for all levels)\nOrganic Wine & Mead Tasting\nPlogging (picking up trash while jogging)\nKayaking\, Canoeing\, and Fishing\nSustainable Lawn & Garden Advice\nWatershed Protection Advocacy\nLittle League Equipment Up-Cycle Collection\nEarth Day Documentary (“Living In Future’s Past” w/ Jeff Bridges)
URL:https://tcsahub.org/event/earth-day-50th-anniversary-party/
LOCATION:Newton Lake Park\, E. Bettlewood Avenue\, Collingswood\, 08107
CATEGORIES:Bird watching,Cleanup,Educational,Festival,Kids event,Lecture,Movies,Nature Hike,Outdoor Activity,Social Event,trailblazing,Walk
ATTACH;FMTTYPE=image/png:https://tcsahub.org/wp-content/uploads/2020/03/50th-Anniversary_Gold.png
END:VEVENT
BEGIN:VEVENT
DTSTART;TZID=America/New_York:20200319T190000
DTEND;TZID=America/New_York:20200319T201000
DTSTAMP:20260419T193851
CREATED:20200309T162528Z
LAST-MODIFIED:20200316T160528Z
UID:2562-1584644400-1584648600@tcsahub.org
SUMMARY:Oaklyn Green Team: Monthly Meeting - CANCELLED
DESCRIPTION:CANCELLED !!! \nThe Oaklyn Green Team is dedicated to uniting residents\, volunteers\, business leaders\, students\, seniors and houses of worship in a cooperative effort to support programs and projects that nurture a culture of sustainability. We work closely with our neighboring jurisdictions and frequently partner with environmentally focused organizations to achieve common goals. ALL ARE WELCOME! \nNow is a great time to join. We pride ourselves on being at the vanguard of sustainable innovation. Whatever your sustainability interests (climate\, recycling\, watershed protection\, electric vehicles\, solar power\, food waste & plastics reduction\, urban farming\, pollinator habitats\, planting shade trees\, etc.)\, we’re doing it in 2020. \nMeeting Loction: Oaklyn Fire Hall\, 20 W. Clinton Avenue (parking at Borough Hall). \nFor questions or more information email: INFO@OaklynGreen.org.
URL:https://tcsahub.org/event/oaklyn-green-team-monthly-meeting-3/
LOCATION:Oaklyn Fire Department Community Roon\, 20 W. Clinton Avenue\, Oaklyn\, 08107
CATEGORIES:Educational,Indoor Activity,Lecture and Group Discussion,Meeting,Networking,Social Event,Training
END:VEVENT
BEGIN:VEVENT
DTSTART;TZID=America/New_York:20200222T183000
DTEND;TZID=America/New_York:20200222T220000
DTSTAMP:20260419T193851
CREATED:20200203T181437Z
LAST-MODIFIED:20200203T181633Z
UID:2408-1582396200-1582408800@tcsahub.org
SUMMARY:Williamstown Bike Party - February Community Ride
DESCRIPTION:Join us as we host a monthly night bike ride; we meet at the Community Center\, then head out for a low key casual ride\, and end up back at the center\, and them stop i to our local Brewery\, 21+ please\, free & open to all.
URL:https://tcsahub.org/event/williamstown-bike-party-february-community-ride/
LOCATION:Pfeiffer Community Center\, 301 Blue Bell Rd\, Williamstown\, 08094
CATEGORIES:Outdoor Activity,Social Event
ATTACH;FMTTYPE=image/jpeg:https://tcsahub.org/wp-content/uploads/2020/02/BikePartyLogo.jpg
END:VEVENT
BEGIN:VEVENT
DTSTART;TZID=America/New_York:20191204T190000
DTEND;TZID=America/New_York:20191204T203000
DTSTAMP:20260419T193851
CREATED:20191113T034905Z
LAST-MODIFIED:20191113T034905Z
UID:2315-1575486000-1575491400@tcsahub.org
SUMMARY:Eco-Poetry Slam
DESCRIPTION:Calling all aspiring poets\, song writers\, and other folks who want to express their feeling on Climate Change and the environment through their artistic voice: The Borough of Oaklyn Green Team will be hosting our next Eco-Poetry Slam on Wednesday\, December 4th at Common Grounds (7 PM). The Master of Ceremonies for this fun evening will be the Green Team’s own Rachel Brody. (After-Party at Tonewood Brewery). REGISTRATION: http://oaklyngreen.org/ecopoetryslam.html \n  \nBackground: Ecopoetry focuses on humanity’s relationship with the natural world in such a way that implies responsibility and engagement. An ecopoem needs to be about a non-human natural world\, wholly or in part\, in some way or the other. Within environmental poetry\, ecopoetry explores nature and its relationship with humans with the ecopoets treating nature as “a separate and equal other.” Ecopoetry is also about the desire for creating change – it is urgent\, it aims to unsettle. It has a desire to issue a “warning” of some kind.
URL:https://tcsahub.org/event/eco-poetry-slam/
LOCATION:COMMON GROUNDS\, 205 W Clinton Ave\, Oaklyn\, 08107
CATEGORIES:Indoor Activity,Networking,Social Event
ATTACH;FMTTYPE=image/png:https://tcsahub.org/wp-content/uploads/2019/11/Eco-Poetry-Slam_flier-6.png
END:VEVENT
BEGIN:VEVENT
DTSTART;TZID=America/New_York:20191028T183000
DTEND;TZID=America/New_York:20191028T203000
DTSTAMP:20260419T193851
CREATED:20190806T161157Z
LAST-MODIFIED:20191011T171819Z
UID:2132-1572287400-1572294600@tcsahub.org
SUMMARY:Put Plastic in Its Place: Building a Sustainable Future
DESCRIPTION:Learn from local experts about challenges\, solutions\, and what you can do to reduce plastic in our environment. Anyone interested is welcome to attend! Connect with others active in South Jersey area and learn about free resources and programs in our area. Green Teams\, residents\, and municipal officials can find answers here. \nRegister Here \nWe will focus on plastics (recycling\, banning\, other solutions)\, but will cover other topics too. \nEvent is Free and light food is sponsored by Sustainable Jersey. Enjoy the scenic view of Delaware river and Philadelphia skyline. \nThe event will have lots of information for Green Teams\, but is open to anyone with an interest. \nTo avoid long lines\, register before event. \nAgenda (subject to change): \n6:30 Registration and networking  \n6:45 WELCOME  \n6:55 CURRENT STATE OF RECYCLING  \n7:00 The Current Climate of Recycling: How we got to where we are today (Gary Sondermeyer\, Bay Shore Recycling) \n7:30 BREAK  \n Breakout Session: Coaching from Sustainable Jersey communities (David Steinberg\, Sean Mohen\, Patrick McDevitt) \n Resource Fair: Vendors to help you get Sustainable Jersey points (Vendor Tables) \nCASE STUDIES IN PLASTICS & RECYCLING (Lightning Round)  \n7:50 Local Success Story: Waterford Township recycling education & compliance campaign (Dave Chiddenton\, Chair\, Waterford Twp. Env. Commission & Former Public Works Mgr) \n8:00 Rethink disposable: toolkit for communities (Amy Goldsmith\, Clean Water Action) \n8:10 Local Action: Collingswood pushes for plastics ban (Sandi Kelly\, SLK Partners\, Sustainable Collingswood Coordinator) \n8:20 ReUse Spotlight: Giving Toys Another Life (Shelly Lipton\, Second Chance Toys) \n8:30 END FORMAL PRESENTATIONS  \nParking Details: \nPlease use free nearby street parking (see map on registration page). If no street parking is available\, then use the garage.  The garage arm will not be open so attendees will need to press the “Call for Assistance” button to be connected with security.  They should alert security that they are here for a meeting at American Water and then the gate will open.  It will be the same process on the way out. \n  \n 
URL:https://tcsahub.org/event/plastic-challenges-and-solutions/
LOCATION:American Water HQ\, 1 Water Street\, Camden\, NJ\, 08102\, United States
CATEGORIES:Educational,Indoor Activity,Indoor Activity - Registration Required,Networking,Social Event
ATTACH;FMTTYPE=image/jpeg:https://tcsahub.org/wp-content/uploads/2019/08/shutterstock_plastic_pollution_nagy-bagoly_arpad.jpg
END:VEVENT
BEGIN:VEVENT
DTSTART;TZID=America/New_York:20191018T183000
DTEND;TZID=America/New_York:20191018T200000
DTSTAMP:20260419T193851
CREATED:20191002T121844Z
LAST-MODIFIED:20191002T155112Z
UID:2258-1571423400-1571428800@tcsahub.org
SUMMARY:Delran Toy & Costume Swap
DESCRIPTION:Have gently used (or new) toys & costumes sitting in your home being ignored or outgrown? \nHow about swapping them for something new to you? It’s one of the best ways to recycle! \nOrganized by the Delran Green Team but open to everyone interested (from any town)\, a swap will be held on Friday October 18 at the Delran Municipal Building\, 900 Chester Ave. \nPlease drop off the items ahead of time (see list of times below) & come prepared to “shop” starting at 6:30PM until around 8PM. Come early for best selection! \nLeftover items will be donated to charity. \nFor questions or if you can’t make any of the dropoff times?\, email delran.green@gmail.com \nDrop off times at Delran Municipal Building:\nThursday 4:30-6PM & 7-8:30\nFriday 9:30-11AM\, 2-3:30 PM & 4-5:30 PM \n 
URL:https://tcsahub.org/event/delran-toy-costume-swap/
LOCATION:Delran Municipal Building\, 900 Chester Ave\, Delran\, NJ\, United States
CATEGORIES:Festival,Indoor Activity,Social Event
ATTACH;FMTTYPE=application/pdf:https://tcsahub.org/wp-content/uploads/2019/10/toy-swap-poster.pdf
ORGANIZER;CN="Sustainable Delran":MAILTO:delran.green@gmail.com
END:VEVENT
BEGIN:VEVENT
DTSTART;TZID=America/New_York:20190928T173000
DTEND;TZID=America/New_York:20190928T203000
DTSTAMP:20260419T193851
CREATED:20190923T211535Z
LAST-MODIFIED:20190925T000819Z
UID:2237-1569691800-1569702600@tcsahub.org
SUMMARY:#Waste Not
DESCRIPTION:During our third #WasteNot event\, the Courier-Post will partner with the Farm & Fisherman Tavern in Cherry Hill\, the Center for Environmental Transformation (CFET)\, Fireworks\, and other community organizations to offer a special tasting\, farm tour\, and community conversation about reducing food waste. A tasting menu will be orchestrated by Chef Todd Fuller of Farm & Fisherman and chefs from Food Bank of South Jersey\, Cathedral Kitchen\, Neighborhood Center of Camden\, Square Meal\, Invincible City Farms\, and Hungry Harvest. The event will include Scrap App tastings\, live music by The Quixote Project\, tours of urban farming spaces by Farmer Jon of CFET\, coffee courtesy of Revolution Coffee Roasters\, and beer from Tonewood Brewing Company. \nTickets are $40 or two for $75 in advance. At the door\, if available\, tickets are $50. For residents of the City of Camden\, tickets are $20. Proceeds will benefit The Center for Environmental Transformation. This is a 21+ event.
URL:https://tcsahub.org/event/waste-not/
LOCATION:Camden Fireworks\, 1813 Broadway\, Camden\, NJ\, 08104\, United States
CATEGORIES:Educational,Indoor Activity,Indoor Activity - Registration Required,Networking,Social Event
ATTACH;FMTTYPE=image/jpeg:https://tcsahub.org/wp-content/uploads/2019/09/WasteNot.jpg
END:VEVENT
BEGIN:VEVENT
DTSTART;TZID=America/New_York:20190219T190000
DTEND;TZID=America/New_York:20190219T210000
DTSTAMP:20260419T193851
CREATED:20190217T114759Z
LAST-MODIFIED:20190217T114759Z
UID:1891-1550602800-1550610000@tcsahub.org
SUMMARY:Green Drinks/Sustainable Sips
DESCRIPTION:Our WTEC is joining forces with the Hammonton Green Team and the Tri-County Sustainability Alliance (TriCSA) to host our first-ever Green Drinks/Sustainable Sips Event! It will be held at Atco’s Rack’s. This is a time for neighboring ECs and Green Teams to come together for sharing ideas while sampling food & drinks from Rack’s menu. See you on Feb. 19th\, from 7:00 – 9: 00!
URL:https://tcsahub.org/event/green-drinks-sustainable-sips/
LOCATION:Rack’s\, 286 White Horse Pike\, Atco\, NJ\, 08004\, United States
CATEGORIES:Indoor Activity,Networking,Social Event
ATTACH;FMTTYPE=image/jpeg:https://tcsahub.org/wp-content/uploads/2018/09/PettyIslandBirds.jpg
ORGANIZER;CN="Waterford Township Environmental Commision":MAILTO:daveterriidaho@verizon.net
END:VEVENT
BEGIN:VEVENT
DTSTART;TZID=America/New_York:20181216T090000
DTEND;TZID=America/New_York:20181216T103000
DTSTAMP:20260419T193851
CREATED:20181002T104223Z
LAST-MODIFIED:20181107T190016Z
UID:1565-1544950800-1544956200@tcsahub.org
SUMMARY:Breakfast and Bag It (the movie)
DESCRIPTION:In this award-winning film\, we follow “everyman” Jeb Berrier as he embarks on a global tour to unravel the complexities of our plastic world. We see how our crazy-for-plastic world has finally caught up to us and what we can do about it. Today. Right now. \n$5 admission per person includes a delicious brunch of bagels\, spreads\, and more. \nAll are welcome! Please join us! \nYou’ll also hear about Adath’s upcoming participation in the Trex recycling challenge. Help us collect recyclable plastic film from November 1st through April 30th and Trex will donate a high-performance composite bench. \n  \nBreakfast 9am\, movie (45 minutes) starts at 9:30am.
URL:https://tcsahub.org/event/breakfast-and-bag-it-the-movie/
LOCATION:Adath Emanu-El\, 205 Elbo Lane\, Mount Laurel\, NJ\, 08054\, United States
CATEGORIES:Indoor Activity,Movies,Social Event
ATTACH;FMTTYPE=image/jpeg:https://tcsahub.org/wp-content/uploads/2018/10/Adath-Emanu-El-Gun-Violence.jpg
END:VEVENT
BEGIN:VEVENT
DTSTART;TZID=America/New_York:20181204T180000
DTEND;TZID=America/New_York:20181204T210000
DTSTAMP:20260419T193851
CREATED:20181105T184857Z
LAST-MODIFIED:20181108T234223Z
UID:1628-1543946400-1543957200@tcsahub.org
SUMMARY:Sustainable South Jersey Launch Party
DESCRIPTION:Join Sustainable South Jersey (formerly Sustainable Cherry Hill) as we unveil our new look and new initiatives designed to positively impact sustainability in our South Jersey community. The event is open to the public (advance registration is encouraged) and the first 50 people to signup will receive a free tasting on us at South Jersey’s own Flying Fish Brewing Company! Free tasty snacks too! \nMeet other “green enthusiasts” — hear from members of local green teams — bring your friends. Don’t miss SSJ’s kickoff event! \n• Keynote Address: Hurricane Sandy\, Recovery and Resilience – Erika Stahl\n• Sustainable South Jersey “Meetups” — programs on tap!\n• Opportunities to get involved\, including board membership\n• Our “mini-grant” program for local sustainability projects\n• Our 10th annual Earth Festival \n  \nKeynote Address: \nErika Stahl\, Professional Planner with Toms River Township\, describes how she has dealt with thousands of property owners as they rebuild and deal with new zoning regulations to address flooding risk after Hurricane Sandy. Ms Stahl will also discuss how communities can become more resilient to natural disasters and sea level rise.
URL:https://tcsahub.org/event/sustainable-south-jersey-launch-party/
LOCATION:Flying Fish Brewery\, 900 Kennedy Blvd\, Somerdale\, NJ\, 08083\, United States
CATEGORIES:Indoor Activity,Indoor Activity - Registration Required,Social Event
ATTACH;FMTTYPE=image/jpeg:https://tcsahub.org/wp-content/uploads/2018/11/Flying-fish.jpg
ORGANIZER;CN="Sustainable South Jersey":MAILTO:info@sustainablesouthjersey.org
END:VEVENT
BEGIN:VEVENT
DTSTART;TZID=America/New_York:20180922T090000
DTEND;TZID=America/New_York:20180922T140000
DTSTAMP:20260419T193851
CREATED:20180805T171848Z
LAST-MODIFIED:20180822T103840Z
UID:1441-1537606800-1537624800@tcsahub.org
SUMMARY:3rd Annual Green Fair\, Farmer's Market\, & Shred Event
DESCRIPTION:Please join Sustainable Monroe Township for our 3rd Annual Green Fair\, Farmers Market\, & Shred Event!\n\n\nSustainable info and activities\, Shred Truck\, Yoga\, renewable energy\, electric cars\, Community Garden info\, habitats\, food\, music\, and more!
URL:https://tcsahub.org/event/3rd-annual-green-fair-farmers-market-shred-event/
LOCATION:Pfeiffer Community Center\, Blue Bell Road and Main Street\, Williamstown\, NJ
CATEGORIES:Outdoor Activity,Social Event
END:VEVENT
BEGIN:VEVENT
DTSTART;TZID=America/New_York:20180817T173000
DTEND;TZID=America/New_York:20180817T190000
DTSTAMP:20260419T193851
CREATED:20180811T120350Z
LAST-MODIFIED:20180811T120350Z
UID:1463-1534527000-1534532400@tcsahub.org
SUMMARY:Solar Happy Hour
DESCRIPTION:Join Solar United Neighbors at an upcoming Solar Happy Hour on Friday\, August 17th from 5:30-7:00 at River Horse Brewing Co.\n\nCome hang out with fellow solar supporters and enjoy River Horse’s solar-powered beer. River Horse is participating in the national Brews from the Sun competition and this will be your last chance to vote for them to be crowned America’s favorite solar craft brewery.\n\nThe Happy Hour is being organized in partnership with Mosaic.\n\nCan’t make it? You can still show your support by voting for River Horse. Share on social media\, too\, and help River Horse take the lead in voting! Standings are updated every 10 minutes
URL:https://tcsahub.org/event/solar-happy-hour/
LOCATION:River Horse Brewing Company\, 2 Graphics Drive\, Ewing Township\, 08628\, United States
CATEGORIES:Social Event
ATTACH;FMTTYPE=image/jpeg:https://tcsahub.org/wp-content/uploads/2018/08/River-Horse-Brews-from-the-Sun-Happy-Hour-Flyer-8.17.2018.jpg
END:VEVENT
END:VCALENDAR