BEGIN:VCALENDAR
VERSION:2.0
PRODID:-//TriCounty Sustainability Alliance - ECPv6.15.20//NONSGML v1.0//EN
CALSCALE:GREGORIAN
METHOD:PUBLISH
X-ORIGINAL-URL:https://tcsahub.org
X-WR-CALDESC:Events for TriCounty Sustainability Alliance
REFRESH-INTERVAL;VALUE=DURATION:PT1H
X-Robots-Tag:noindex
X-PUBLISHED-TTL:PT1H
BEGIN:VTIMEZONE
TZID:America/New_York
BEGIN:DAYLIGHT
TZOFFSETFROM:-0500
TZOFFSETTO:-0400
TZNAME:EDT
DTSTART:20170312T070000
END:DAYLIGHT
BEGIN:STANDARD
TZOFFSETFROM:-0400
TZOFFSETTO:-0500
TZNAME:EST
DTSTART:20171105T060000
END:STANDARD
BEGIN:DAYLIGHT
TZOFFSETFROM:-0500
TZOFFSETTO:-0400
TZNAME:EDT
DTSTART:20180311T070000
END:DAYLIGHT
BEGIN:STANDARD
TZOFFSETFROM:-0400
TZOFFSETTO:-0500
TZNAME:EST
DTSTART:20181104T060000
END:STANDARD
BEGIN:DAYLIGHT
TZOFFSETFROM:-0500
TZOFFSETTO:-0400
TZNAME:EDT
DTSTART:20190310T070000
END:DAYLIGHT
BEGIN:STANDARD
TZOFFSETFROM:-0400
TZOFFSETTO:-0500
TZNAME:EST
DTSTART:20191103T060000
END:STANDARD
BEGIN:DAYLIGHT
TZOFFSETFROM:-0500
TZOFFSETTO:-0400
TZNAME:EDT
DTSTART:20200308T070000
END:DAYLIGHT
BEGIN:STANDARD
TZOFFSETFROM:-0400
TZOFFSETTO:-0500
TZNAME:EST
DTSTART:20201101T060000
END:STANDARD
END:VTIMEZONE
BEGIN:VEVENT
DTSTART;TZID=America/New_York:20190915T123000
DTEND;TZID=America/New_York:20190915T153000
DTSTAMP:20260419T181511
CREATED:20190821T160349Z
LAST-MODIFIED:20190821T160349Z
UID:2197-1568550600-1568561400@tcsahub.org
SUMMARY:Chicken School--"The Basics of Raising Backyard Chickens in the Suburbs"
DESCRIPTION:Time again for Chicken School. The absolute last class until March\, will be held on Sunday afternoon\, September 15\, 2019 in Haddon Township. YOU MUST PRE-REGISTER AND PAY prior to September 8. Cost is $10 per person and walk-ins are not accepted. \nHave you ever considered raising chickens in your backyard?\nGwenne Baile\, Chair\, of Camden County Chickens and Therapy Hens will teach you how easy and rewarding it is to raise a backyard flock. Learn everything from choosing the right chicks\, how not to get a rooster\, setting up a predator-proof coop\, and keeping your hens happy and healthy year-round. This class is mandatory for most towns where there are new ordinances or pilot programs. It would be good for residents of other towns to attend the class if you’re are looking into modifying existing ordinances. There will be a hen joining us!\nEmail Gbaile@verizon.net. Sign in at 12:30 pm and class starts promptly at 1PM and ends approximately at 3:30 pm.
URL:https://tcsahub.org/event/chicken-school-the-basics-of-raising-backyard-chickens-in-the-suburbs/
LOCATION:Haddon Township Environmental and Historical Center\, 143 Ormand Avenue\, Haddon Township\, New Jersey\, 08107
CATEGORIES:Indoor Activity - Registration Required,Training - Registration Required
ATTACH;FMTTYPE=image/jpeg:https://tcsahub.org/wp-content/uploads/2019/08/chicken-school4-1.jpg
END:VEVENT
BEGIN:VEVENT
DTSTART;TZID=America/New_York:20190530T180000
DTEND;TZID=America/New_York:20190530T200000
DTSTAMP:20260419T181511
CREATED:20190505T102834Z
LAST-MODIFIED:20190523T171408Z
UID:2042-1559239200-1559246400@tcsahub.org
SUMMARY:Energy Efficiency Summit - POSTPONED until Fall
DESCRIPTION:!!! Event is POSTPONED until Fall !!! \nMore information about date will be posted soon. \nManaging energy use in your home\, business\, or municipal facilities is proven to have a significant impact on the environment … & cost savings! Learn specific actions your community can take to improve energy use through proven energy efficiency measures. Hear about successful case studies and available resources & incentives to get you started. \nFor more information\, contact \nTri-County Sustainability Alliance\n609-771-3129\nhubs@sustainablejersey.com
URL:https://tcsahub.org/event/energy-efficiency-summit/
LOCATION:Camden County Emergency Regional Training Center\, 420 Woodbury - Turnersville Rd\, Blackwood\, NJ\, 08012\, United States
CATEGORIES:Educational,Indoor Activity,Indoor Activity - Registration Required,Networking,Training,Training - Registration Required
ATTACH;FMTTYPE=image/jpeg:https://tcsahub.org/wp-content/uploads/2019/05/cleantech.jpeg
END:VEVENT
BEGIN:VEVENT
DTSTART;TZID=America/New_York:20181018T083000
DTEND;TZID=America/New_York:20181018T143000
DTSTAMP:20260419T181511
CREATED:20180816T110614Z
LAST-MODIFIED:20180816T110614Z
UID:1473-1539851400-1539873000@tcsahub.org
SUMMARY:Accelerate Land Reuse for Community Revitalization Workshop
DESCRIPTION:Unique opportunity to hear from and meet individually with dozens of public and private-sector redevelopment experts.\n\nAbandoned\, ownerless or blighted properties create public eyesores and erode a municipality’s tax base. This workshop will provide answers to your questions on legal liability\, regulatory issues\, funding resources\, assessment/remediation\, and community engagement to turbo charge your redevelopment efforts.  Hear from public and private-sector experts and meet with them one-on-one to learn about steps to initiate or accelerate the redevelopment of distressed sites for community revitalization. \n\nEvent Fee(s)\n\n\n\n\nNonprofit\, Municipalities and Public Agencies\n$ 0.00\n\n\nCorporate\n$ 45.00
URL:https://tcsahub.org/event/accelerate-land-reuse-for-community-revitalization-workshop/
LOCATION:Salvation Army Kroc Center\, 1865 Harrison Avenue\, Camden\, NJ\, 08105\, United States
CATEGORIES:Indoor Activity - Registration Required,Training,Training - Registration Required
ATTACH;FMTTYPE=image/png:https://tcsahub.org/wp-content/uploads/2018/08/LandRecycling.png
END:VEVENT
BEGIN:VEVENT
DTSTART;TZID=America/New_York:20180719T090000
DTEND;TZID=America/New_York:20180719T150000
DTSTAMP:20260419T181511
CREATED:20180617T103304Z
LAST-MODIFIED:20180617T103304Z
UID:1338-1531990800-1532012400@tcsahub.org
SUMMARY:Pinelands Summer Short Course
DESCRIPTION:Sponsored by the New Jersey Pinelands Commission and Stockton University\, the short course offers guided nature hikes and van trips\, blueberry tours and presentations on insects\, history and winemaking. These educational programs showcase the history\, ecology\, culture and music of the Pine Barrens. A free continental breakfast will be offered to attendees\, beginning at 8 a.m. Professional development credits are available to New Jersey teachers who attend. Registration is $60 per person. Space is limited\, so it is critical for participants to register early\, as the event may sell out. \nRegister online or by phone at 609-652-4227. \nFull course descriptions are available on the Commission’s website\n \nWe are proud to support this event. Our Director of Conservation Science\, Ryan Rebozo will lead a van tour through the core of the Pinelands Preservation Area. Pinelands Adventures Director of Education\, John Volpa\, will lead a daylong\, four-mile hike along the Mullica and Batsto Rivers. And Pinelands Adventures guide\, Jeff Larson\, will lead a five hour van tour highlighting past industries in the Pines.
URL:https://tcsahub.org/event/pinelands-summer-short-course/
LOCATION:Stockton University\, Hammonton\, NJ\, 08037\, United States
CATEGORIES:Indoor Activity - Registration Required,Training - Registration Required
ATTACH;FMTTYPE=image/jpeg:https://tcsahub.org/wp-content/uploads/2018/06/Pinelands_Web_Summer.jpg
END:VEVENT
END:VCALENDAR