BEGIN:VCALENDAR
VERSION:2.0
PRODID:-//TriCounty Sustainability Alliance - ECPv6.15.20//NONSGML v1.0//EN
CALSCALE:GREGORIAN
METHOD:PUBLISH
X-ORIGINAL-URL:https://tcsahub.org
X-WR-CALDESC:Events for TriCounty Sustainability Alliance
REFRESH-INTERVAL;VALUE=DURATION:PT1H
X-Robots-Tag:noindex
X-PUBLISHED-TTL:PT1H
BEGIN:VTIMEZONE
TZID:America/New_York
BEGIN:DAYLIGHT
TZOFFSETFROM:-0500
TZOFFSETTO:-0400
TZNAME:EDT
DTSTART:20180311T070000
END:DAYLIGHT
BEGIN:STANDARD
TZOFFSETFROM:-0400
TZOFFSETTO:-0500
TZNAME:EST
DTSTART:20181104T060000
END:STANDARD
BEGIN:DAYLIGHT
TZOFFSETFROM:-0500
TZOFFSETTO:-0400
TZNAME:EDT
DTSTART:20190310T070000
END:DAYLIGHT
BEGIN:STANDARD
TZOFFSETFROM:-0400
TZOFFSETTO:-0500
TZNAME:EST
DTSTART:20191103T060000
END:STANDARD
BEGIN:DAYLIGHT
TZOFFSETFROM:-0500
TZOFFSETTO:-0400
TZNAME:EDT
DTSTART:20200308T070000
END:DAYLIGHT
BEGIN:STANDARD
TZOFFSETFROM:-0400
TZOFFSETTO:-0500
TZNAME:EST
DTSTART:20201101T060000
END:STANDARD
BEGIN:DAYLIGHT
TZOFFSETFROM:-0500
TZOFFSETTO:-0400
TZNAME:EDT
DTSTART:20210314T070000
END:DAYLIGHT
BEGIN:STANDARD
TZOFFSETFROM:-0400
TZOFFSETTO:-0500
TZNAME:EST
DTSTART:20211107T060000
END:STANDARD
END:VTIMEZONE
BEGIN:VEVENT
DTSTART;TZID=America/New_York:20201215T100000
DTEND;TZID=America/New_York:20201215T130000
DTSTAMP:20260419T161729
CREATED:20201212T134535Z
LAST-MODIFIED:20201212T134535Z
UID:2836-1608026400-1608037200@tcsahub.org
SUMMARY:Volunteer – Tree Maintenance
DESCRIPTION:Thanks to a grant from The Watershed Institute’s Roots For Rivers Program\, hundreds of trees were planted on the farm at PPA earlier this year. The trees help manage stormwater\, reduce erosion\, and reduce flooding in Vincentown and the Rancocas Creek. They will provide long-term benefits to the farm by providing shade\, windbreak\, and pollinator habitat. \nTo help the trees thrive\, we are mulching the trees with pizza boxes and woodchips. The pizza boxes reduce weeds and add soil carbon while reducing our waste stream. There’s a lot of ground to cover\, and we need your help! \nTools will be provided and a bathroom will be available. Participation is limited to 25. By registering\, participants agree to wear a mask over their nose and mouth when within 10 feet of others not in their household. While there will be some gloves available\, please bring your own\, if possible. Thank you so much for your help! \nRegistration required.
URL:https://tcsahub.org/event/volunteer-tree-maintenance/
LOCATION:Pinelands Preservation Alliance Headquarters\, 17 Pemberton Rd\, Southampton\, NJ\, 08088\, United States
CATEGORIES:Cleanup,Outdoor event - Registration required,Tree Planting
ATTACH;FMTTYPE=image/jpeg:https://tcsahub.org/wp-content/uploads/2020/12/Mulch-Work-Day-Flyer-cropped-1536x706-1.jpg
END:VEVENT
BEGIN:VEVENT
DTSTART;TZID=America/New_York:20190511T100000
DTEND;TZID=America/New_York:20190511T140000
DTSTAMP:20260419T161729
CREATED:20190508T105624Z
LAST-MODIFIED:20190508T105624Z
UID:2046-1557568800-1557583200@tcsahub.org
SUMMARY:Roots For Rivers Tree / Shrub Planting
DESCRIPTION:Volunteers needed to Join the Mount Holly Environmental Committee in a Creek Riparian Buffer Restoration Project to reduce flooding\, prevent bank erosion\, improve water quality and provide habitat \nWe will plant ~ 180 trees and ~200 shrubs at Iron Works / Mill Dam Park in Mount Holly \nMeet at Iron Works Park\, Mount Holly   –   Off of Wollner Drive near Foot Bridge over the Creek  \nBring Shovels (large and small) for planting—gloves will be provided.  Project Funded by The Nature Conservancy and administered by Sustainable Jersey \nContact Randi Rothmel for more Information: rrothmel@twp.mountholly.nj.us \nFunding through a Grant from Sustainable Jersey Paid for by The Nature Conservancy \n 
URL:https://tcsahub.org/event/roots-for-rivers-tree-shrub-planting/
LOCATION:Iron Works Park\, Mount Holly NJ\, Wollner Drive\, Mount Holly\, 08060
CATEGORIES:Tree Planting
ORGANIZER;CN="Mount Holly Environmental Committee/Green Team":MAILTO:rrothmel@twp.mountholly.nj.us
END:VEVENT
BEGIN:VEVENT
DTSTART;TZID=America/New_York:20190511T100000
DTEND;TZID=America/New_York:20190511T130000
DTSTAMP:20260419T161729
CREATED:20190502T030111Z
LAST-MODIFIED:20190502T030111Z
UID:2037-1557568800-1557579600@tcsahub.org
SUMMARY:Tree Planting Event - Gateway Park
DESCRIPTION:The NJ Tree Foundation is looking for a few helping hands for a tree planting event. School groups\, families\, and individuals welcome! It’s on May 11th at Gateway Park\, 2798 Admiral Wilson Boulevard\, Pennsauken\, NJ\, 08109  from 10am to 1pm. \nFor more information or to RSVP\,  contact Meredith at 856-287-4488 or email her: mbrown@njtreefoundation.org.
URL:https://tcsahub.org/event/tree-planting-event-gateway-park/
LOCATION:Gateway Park\, 2798 Admiral Wilson Boulevard\, Pennsauken\, NJ\, 08109\, United States
CATEGORIES:Kids event,Outdoor Activity,Tree Planting
ATTACH;FMTTYPE=image/jpeg:https://tcsahub.org/wp-content/uploads/2019/05/unnamed-17.jpg
ORGANIZER;CN="New Jersey Tree Foundation":MAILTO:LSimms@NJTreeFoundation.org
END:VEVENT
BEGIN:VEVENT
DTSTART;TZID=America/New_York:20190427T090000
DTEND;TZID=America/New_York:20190427T120000
DTSTAMP:20260419T161729
CREATED:20190419T222704Z
LAST-MODIFIED:20190419T222804Z
UID:2015-1556355600-1556366400@tcsahub.org
SUMMARY:Tree Planting Project at Whitman Park
DESCRIPTION:Join the New Jersey Tree Foundation for a tree planting at Whitman Park. Meet at St. Joseph’s Church\, 1010 Liberty Street\, Camden\, NJ 08104. It’s on April 27th\, from 9 am to 12 pm.\nAll tree plantings are rain or shine. Please arrive no later than 9am. Volunteers are welcome to arrive as early as 8:15am to help set up.\nTo RSVP for this tree planting event\, please contact Meredith Brown at mbrown@njtreefoundation.org or by calling 856-287-4488. 
URL:https://tcsahub.org/event/tree-planting-project-volunteers-needed/
LOCATION:NJ
CATEGORIES:Outdoor Activity,Tree Planting
ATTACH;FMTTYPE=image/png:https://tcsahub.org/wp-content/uploads/2019/04/Tree-picture-for-website-free.png
ORGANIZER;CN="New Jersey Tree Foundation":MAILTO:LSimms@NJTreeFoundation.org
END:VEVENT
END:VCALENDAR