BEGIN:VCALENDAR
VERSION:2.0
PRODID:-//TriCounty Sustainability Alliance - ECPv6.15.20//NONSGML v1.0//EN
CALSCALE:GREGORIAN
METHOD:PUBLISH
X-WR-CALNAME:TriCounty Sustainability Alliance
X-ORIGINAL-URL:https://tcsahub.org
X-WR-CALDESC:Events for TriCounty Sustainability Alliance
REFRESH-INTERVAL;VALUE=DURATION:PT1H
X-Robots-Tag:noindex
X-PUBLISHED-TTL:PT1H
BEGIN:VTIMEZONE
TZID:America/New_York
BEGIN:DAYLIGHT
TZOFFSETFROM:-0500
TZOFFSETTO:-0400
TZNAME:EDT
DTSTART:20180311T070000
END:DAYLIGHT
BEGIN:STANDARD
TZOFFSETFROM:-0400
TZOFFSETTO:-0500
TZNAME:EST
DTSTART:20181104T060000
END:STANDARD
BEGIN:DAYLIGHT
TZOFFSETFROM:-0500
TZOFFSETTO:-0400
TZNAME:EDT
DTSTART:20190310T070000
END:DAYLIGHT
BEGIN:STANDARD
TZOFFSETFROM:-0400
TZOFFSETTO:-0500
TZNAME:EST
DTSTART:20191103T060000
END:STANDARD
BEGIN:DAYLIGHT
TZOFFSETFROM:-0500
TZOFFSETTO:-0400
TZNAME:EDT
DTSTART:20200308T070000
END:DAYLIGHT
BEGIN:STANDARD
TZOFFSETFROM:-0400
TZOFFSETTO:-0500
TZNAME:EST
DTSTART:20201101T060000
END:STANDARD
BEGIN:DAYLIGHT
TZOFFSETFROM:-0500
TZOFFSETTO:-0400
TZNAME:EDT
DTSTART:20210314T070000
END:DAYLIGHT
BEGIN:STANDARD
TZOFFSETFROM:-0400
TZOFFSETTO:-0500
TZNAME:EST
DTSTART:20211107T060000
END:STANDARD
END:VTIMEZONE
BEGIN:VEVENT
DTSTART;TZID=America/New_York:20200714T173000
DTEND;TZID=America/New_York:20200714T203000
DTSTAMP:20260419T144012
CREATED:20200707T180434Z
LAST-MODIFIED:20200707T181609Z
UID:2650-1594747800-1594758600@tcsahub.org
SUMMARY:DIY Rain Garden Webinar
DESCRIPTION:Join Dr Obropta (Rutgers) to learn how and why you should consider developing a rain garden on your property! \n  \nA rain garden can be as simple or elaborate as you like\, and can be completed in less than a day. In this webinar we’ll examine examples of different rain gardens and provide you with all the information you need to develop your own!
URL:https://tcsahub.org/event/diy-rain-garden-webinar/
CATEGORIES:Indoor Activity - Registration Required,Training - Registration Required,Webinar
ATTACH;FMTTYPE=image/jpeg:https://tcsahub.org/wp-content/uploads/2019/03/Greens-event-4-7-19.jpg
ORGANIZER;CN="New Jersey Highlands Coalition":MAILTO:info@njhighlandscoaltion.org
END:VEVENT
BEGIN:VEVENT
DTSTART;TZID=America/New_York:20200706T080000
DTEND;TZID=America/New_York:20200706T170000
DTSTAMP:20260419T144012
CREATED:20200706T125943Z
LAST-MODIFIED:20200706T125943Z
UID:2646-1594022400-1594054800@tcsahub.org
SUMMARY:HOME ENERGY USE AND CONSERVATION
DESCRIPTION:Do you want to help combat climate change and reduce your fuel costs at the same time? Learn from Ken Sheehan\, ombudsman for the NJ Board of Public Utilities\, Colin McCullough\, a certified building analyst with Princeton Air\, and Bob Harris\, Ph.D.\, retired adjunct professor in civil & environmental engineering at Princeton University how you can implement energy-saving measures and adopt renewable energy at home. This session will describe federal and state financial incentives for incorporating these practices. \nHigh School and Adult. \nWe invite you to make a suggested donation of $10 to support this program being brought to you by the Watershed Explorations free summer education series.  \nParticipants attending eight or more Watershed Exploration sessions will receive a certificate of completion indicating the number of hours attended. \nZoom link will be provided in confirmation email. \n\n\n\nCONTACT E-MAIL\nestretz@thewatershed.org
URL:https://tcsahub.org/event/home-energy-use-and-conservation/
LOCATION:Webinar
CATEGORIES:Educational,Indoor Activity - Registration Required,Training - Registration Required,Webinar
ATTACH;FMTTYPE=image/jpeg:https://tcsahub.org/wp-content/uploads/2020/07/EnergyPlugInEarth.jpg
ORGANIZER;CN="Watershed Institute":MAILTO:info@thewatershed.org
END:VEVENT
BEGIN:VEVENT
DTSTART;TZID=America/New_York:20200706T080000
DTEND;TZID=America/New_York:20200706T170000
DTSTAMP:20260419T144012
CREATED:20200706T125711Z
LAST-MODIFIED:20200706T125711Z
UID:2641-1594022400-1594054800@tcsahub.org
SUMMARY:LIFE IN A STREAM
DESCRIPTION:What critters live in our waters and how does water connect all living things? Join Watershed Educators Samantha Bernstein and Yesenia Feliciano\, and NJ Watershed Ambassador Sarah McCabe in exploring some of our local waterways. Learn how to engage and interact with nearby rivers and streams. \nAge 12 and up. \nWe invite you to make a suggested donation of $10 to support this program being brought to you by the Watershed Explorations free summer education series.  \nParticipants attending eight or more Watershed Exploration sessions will receive a certificate of completion indicating the number of hours attended. \nZoom link will be provided in confirmation email. \n\n\n\nCONTACT E-MAIL\nEducation@thewatershed.org
URL:https://tcsahub.org/event/life-in-a-stream/
CATEGORIES:Educational,Kids event,Lecture - Registration Required,Training - Registration Required,Webinar
ATTACH;FMTTYPE=image/jpeg:https://tcsahub.org/wp-content/uploads/2020/07/8-9-stream.jpg
ORGANIZER;CN="Watershed Institute":MAILTO:info@thewatershed.org
END:VEVENT
BEGIN:VEVENT
DTSTART;TZID=America/New_York:20200629T183000
DTEND;TZID=America/New_York:20200629T203000
DTSTAMP:20260419T144012
CREATED:20200415T160707Z
LAST-MODIFIED:20200415T160707Z
UID:2617-1593455400-1593462600@tcsahub.org
SUMMARY:Understanding the 2019 Harmful Algae Blooms in NJ
DESCRIPTION:Earth Day at Home webinar series\nHarmful algal blooms (HABs) plagued many aquatic waterways in 2019. This talk will cover what it is\, what to look for\, health effects\, and how you can do your part to prevent them. Mike Haberland\, Rutgers Cooperative Extension\, Associate Professor/County Agent- Burlington/ Camden Counties. \nCourses a free but registration is required. \nExperts speak on a topic each week. Sponsored by Rutgers’ Environmental Stewards.
URL:https://tcsahub.org/event/understanding-the-2019-harmful-algae-blooms-in-nj/
CATEGORIES:Training,Training - Registration Required,Webinar
ATTACH;FMTTYPE=image/jpeg:https://tcsahub.org/wp-content/uploads/2020/04/BoyGarden.jpg
END:VEVENT
BEGIN:VEVENT
DTSTART;TZID=America/New_York:20200622T183000
DTEND;TZID=America/New_York:20200622T203000
DTSTAMP:20260419T144012
CREATED:20200415T160615Z
LAST-MODIFIED:20200415T160615Z
UID:2615-1592850600-1592857800@tcsahub.org
SUMMARY:Ticks and Lyme Disease
DESCRIPTION:Earth Day at Home webinar series\nProtect yourself from ticks and Lyme disease by learning about the tick life cycle\, tick removal\, and differences between a variety of tick species. Learn also how to reduce tick habitat around your home. Amy Rowe\, Associate Professor/ County Agent\, Rutgers Cooperative Extension Passaic/ Essex Counties. \nCourses a free but registration is required. \nExperts speak on a topic each week. Sponsored by Rutgers’ Environmental Stewards.
URL:https://tcsahub.org/event/ticks-and-lyme-disease/
CATEGORIES:Training,Training - Registration Required,Webinar
ATTACH;FMTTYPE=image/jpeg:https://tcsahub.org/wp-content/uploads/2020/04/BoyGarden.jpg
END:VEVENT
BEGIN:VEVENT
DTSTART;TZID=America/New_York:20200615T183000
DTEND;TZID=America/New_York:20200615T203000
DTSTAMP:20260419T144012
CREATED:20200415T160533Z
LAST-MODIFIED:20200415T160533Z
UID:2613-1592245800-1592253000@tcsahub.org
SUMMARY:Backyard Composting 101
DESCRIPTION:Earth Day at Home webinar series\nStarting home composting is one of the easiest ways to reduce waste while improving your soil. Learn how to turn your kitchen scraps and yard waste into black gold for your soil with these tips for success. Michele Bakacs\, Associate Professor\, Rutgers Cooperative Extension- Middlesex/ Union Counties. \nCourses a free but registration is required. \nExperts speak on a topic each week. Sponsored by Rutgers’ Environmental Stewards.
URL:https://tcsahub.org/event/backyard-composting-101/
CATEGORIES:Training,Training - Registration Required,Webinar
ATTACH;FMTTYPE=image/jpeg:https://tcsahub.org/wp-content/uploads/2020/04/BoyGarden.jpg
END:VEVENT
BEGIN:VEVENT
DTSTART;TZID=America/New_York:20200608T183000
DTEND;TZID=America/New_York:20200608T203000
DTSTAMP:20260419T144012
CREATED:20200415T160453Z
LAST-MODIFIED:20200429T103111Z
UID:2611-1591641000-1591648200@tcsahub.org
SUMMARY:Exploring Your Watershed from Home
DESCRIPTION:Earth Day at Home webinar series\nWe all live in a watershed and you can navigate yours from your computer. Learn about free online platforms and mapping websites that provide all kinds of information for you to explore local streams\, habitat\, water sources\, soil types\, and the environment right around your home. Sal Mangiafico\, Associate Professor\, Rutgers Cooperative Extension- Salem/ Cumberland Counties. \nCourses are free but registration is required. \nExperts speak on a topic each week. Sponsored by Rutgers’ Environmental Stewards.
URL:https://tcsahub.org/event/exploring-your-watershed-from-home/
CATEGORIES:Training,Training - Registration Required,Webinar
ATTACH;FMTTYPE=image/jpeg:https://tcsahub.org/wp-content/uploads/2020/04/BoyGarden.jpg
END:VEVENT
BEGIN:VEVENT
DTSTART;TZID=America/New_York:20200601T183000
DTEND;TZID=America/New_York:20200601T203000
DTSTAMP:20260419T144012
CREATED:20200415T160414Z
LAST-MODIFIED:20200429T103058Z
UID:2609-1591036200-1591043400@tcsahub.org
SUMMARY:Plant This Not That – Avoiding Invasives in Your Yard
DESCRIPTION:Earth Day at Home webinar series\nSome popular ornamental plants are actually garden “bullies” invading local ecosystems and destroying natural wildlife habitats. Learn about the importance of using native plants in your yards for supporting local ecology including examples of species you can use to replace invasives. Michele Bakacs\, Associate Professor\, Rutgers Cooperative Extension- Middlesex/ Union Counties. \nCourses are free but registration is required. \nExperts speak on a topic each week. Sponsored by Rutgers’ Environmental Stewards.
URL:https://tcsahub.org/event/plant-this-not-that-avoiding-invasives-in-your-yard/
CATEGORIES:Training,Training - Registration Required,Webinar
ATTACH;FMTTYPE=image/jpeg:https://tcsahub.org/wp-content/uploads/2020/04/BoyGarden.jpg
END:VEVENT
BEGIN:VEVENT
DTSTART;TZID=America/New_York:20200526T183000
DTEND;TZID=America/New_York:20200526T203000
DTSTAMP:20260419T144012
CREATED:20200415T160329Z
LAST-MODIFIED:20200429T103045Z
UID:2607-1590517800-1590525000@tcsahub.org
SUMMARY:Reducing Plastic Waste
DESCRIPTION:Earth Day at Home webinar series\nEvery year\, 8 million metric tons of plastic end up in our oceans. Learn about the impact plastic is having on our environment and the steps you can take to reduce plastic waste in your home. Casey Lippincott\, NJDEP Watershed Ambassador. \nCourses are free but registration is required. \nExperts speak on a topic each week. Sponsored by Rutgers’ Environmental Stewards.
URL:https://tcsahub.org/event/reducing-plastic-waste/
CATEGORIES:Training,Training - Registration Required,Webinar
ATTACH;FMTTYPE=image/jpeg:https://tcsahub.org/wp-content/uploads/2020/04/BoyGarden.jpg
END:VEVENT
BEGIN:VEVENT
DTSTART;TZID=America/New_York:20200518T183000
DTEND;TZID=America/New_York:20200518T203000
DTSTAMP:20260419T144012
CREATED:20200415T160248Z
LAST-MODIFIED:20200429T103018Z
UID:2605-1589826600-1589833800@tcsahub.org
SUMMARY:Reducing Food Waste
DESCRIPTION:Earth Day at Home webinar series\nThirty to forty percent of all food produced in the US is wasted. This talk will define food waste\, its environmental impacts\, and will provide tips for reducing food waste at home. Amy Rowe\, Associate Professor/ County Agent\, Rutgers Cooperative Extension of Essex/ Passaic Counties. \nCourses are free but registration is required. \nExperts speak on a topic each week. Sponsored by Rutgers’ Environmental Stewards.
URL:https://tcsahub.org/event/reducing-food-waste/
CATEGORIES:Training,Training - Registration Required,Webinar
ATTACH;FMTTYPE=image/jpeg:https://tcsahub.org/wp-content/uploads/2020/04/BoyGarden.jpg
END:VEVENT
BEGIN:VEVENT
DTSTART;TZID=America/New_York:20200511T183000
DTEND;TZID=America/New_York:20200511T203000
DTSTAMP:20260419T144012
CREATED:20200415T160203Z
LAST-MODIFIED:20200429T103004Z
UID:2603-1589221800-1589229000@tcsahub.org
SUMMARY:Home Vegetable Gardening For Food\, Fun\, and Stress Management
DESCRIPTION:Earth Day at Home webinar series\nGrowing your own food can be physically and mentally rewarding. There are important tips to consider when starting a home vegetable garden such as location\, sunlight\, water\, soil quality\, and wildlife exclusion. This presentation will cover important tips for vegetable gardening including selecting vegetable varieties\, starting seeds indoors and outside\, planting and spacing\, managing pests in the garden\, watering\, and harvesting the garden. Michelle Infante-Casella\, Full Professor/ County Agent\, Rutgers Cooperative Extension of Gloucester County. \nCourses are free but registration is required. \nExperts speak on a topic each week. Sponsored by Rutgers’ Environmental Stewards.
URL:https://tcsahub.org/event/home-vegetable-gardening-for-food-fun-and-stress-management/
CATEGORIES:Training,Training - Registration Required,Webinar
ATTACH;FMTTYPE=image/jpeg:https://tcsahub.org/wp-content/uploads/2020/04/BoyGarden.jpg
END:VEVENT
BEGIN:VEVENT
DTSTART;TZID=America/New_York:20200507T180000
DTEND;TZID=America/New_York:20200507T193000
DTSTAMP:20260419T144012
CREATED:20200429T094649Z
LAST-MODIFIED:20200429T101447Z
UID:2624-1588874400-1588879800@tcsahub.org
SUMMARY:Unbroken Ground - Online Film
DESCRIPTION:Online film showing of ‘Unbroken Ground‘ by Chris Malloy. \nFollowed by a discussion with Jackie Ricotta. \nOur food choices are deeply connected to climate change. Unbroken Ground explains the critical role food will play in the next frontier of our efforts to solve the environmental crisis.  This film explores four areas of agriculture that aim to change our relationship to the land and oceans. Most of our food is produced using methods that reduce biodiversity\, decimate soil and contribute to climate change. We believe our food can and should be a part of the solution to the environmental crisis – grown\, harvested and produced in ways that restore our land\, water and wildlife. The film tells the story of four groups that are pioneers in the fields of regenerative agriculture\, regenerative grazing\, diversified crop development and restorative fishing. \nTo join the event (via Google Hangout)\, please send email to HammontonGreenEvents@Gmail.com \nPlease RSVP by May 5\, 2020 at 5pm and you will receive a link to the event. \nThis is the first virtual event of the 2020 eye opening film and lecture series.
URL:https://tcsahub.org/event/unbroken-ground-online-film/
CATEGORIES:Educational,Movie - Registration Required,Movies,Webinar
ATTACH;FMTTYPE=image/jpeg:https://tcsahub.org/wp-content/uploads/2020/04/UnbrokenGround.jpg
END:VEVENT
BEGIN:VEVENT
DTSTART;TZID=America/New_York:20200504T183000
DTEND;TZID=America/New_York:20200504T203000
DTSTAMP:20260419T144012
CREATED:20200415T160118Z
LAST-MODIFIED:20200429T102943Z
UID:2601-1588617000-1588624200@tcsahub.org
SUMMARY:Creating Wildlife Habitat in Your Yard
DESCRIPTION:Earth Day at Home webinar series\nAll creatures need to eat\, drink\, hide from predators\, take cover from harsh weather\, and safely raise their young. Whatever the size of your yard\, learn how you can transform it into a haven for wildlife. Speaker TBD. \nCourses are free but registration is required. \nExperts speak on a topic each week. Sponsored by Rutgers’ Environmental Stewards.
URL:https://tcsahub.org/event/creating-wildlife-habitat-in-your-yard/
CATEGORIES:Training,Training - Registration Required,Webinar
ATTACH;FMTTYPE=image/jpeg:https://tcsahub.org/wp-content/uploads/2020/04/BoyGarden.jpg
END:VEVENT
BEGIN:VEVENT
DTSTART;TZID=America/New_York:20200427T183000
DTEND;TZID=America/New_York:20200427T203000
DTSTAMP:20260419T144012
CREATED:20200415T155943Z
LAST-MODIFIED:20200415T160001Z
UID:2598-1588012200-1588019400@tcsahub.org
SUMMARY:Environmentally-Friendly Landscape Care
DESCRIPTION:Earth Day at Home webinar series\nEnvironmentally-Friendly Landscape Care. Want to reduce chemical use on your lawn and garden? Bill Hlubik will focus on earth-wise land care practices everyone should use including using proper plant genetics\, using right plant\, right place concepts\, having the soil tested\, using appropriate cultural practices and educating yourself and the public about the dangers of chemical over-application to home landscapes. William T. Hlubik\, Full Professor/ County Agent\, Rutgers Cooperative Extension of Middlesex County. \nCourses a free but registration is required. \nExperts speak on a topic each week. Sponsored by Rutgers’ Environmental Stewards.
URL:https://tcsahub.org/event/get-to-the-root-of-soil-compaction-2/
CATEGORIES:Training,Training - Registration Required,Webinar
ATTACH;FMTTYPE=image/jpeg:https://tcsahub.org/wp-content/uploads/2020/04/BoyGarden.jpg
END:VEVENT
BEGIN:VEVENT
DTSTART;TZID=America/New_York:20200420T183000
DTEND;TZID=America/New_York:20200420T203000
DTSTAMP:20260419T144012
CREATED:20200415T155840Z
LAST-MODIFIED:20200415T155840Z
UID:2595-1587407400-1587414600@tcsahub.org
SUMMARY:Get to the Root of Soil Compaction
DESCRIPTION:Earth Day at Home webinar series\nSoil compaction is a major problem that can impact your lawn\, garden\, and cause rainwater runoff.  Come learn about what causes compaction\, how to figure out if your yard is experiencing compaction\, and how to correct soil compaction at home.  Steve Yergeau\, Assistant Professor/ County Agent\, Rutgers Cooperative Extension- Ocean/Atlantic Counties. \nCourses a free but registration is required. \nExperts speak on a topic each week. Sponsored by Rutgers’ Environmental Stewards.
URL:https://tcsahub.org/event/get-to-the-root-of-soil-compaction/
CATEGORIES:Training,Training - Registration Required,Webinar
ATTACH;FMTTYPE=image/jpeg:https://tcsahub.org/wp-content/uploads/2020/04/BoyGarden.jpg
END:VEVENT
BEGIN:VEVENT
DTSTART;TZID=America/New_York:20200411T090000
DTEND;TZID=America/New_York:20200411T110000
DTSTAMP:20260419T144012
CREATED:20200403T154955Z
LAST-MODIFIED:20200403T155303Z
UID:2589-1586595600-1586602800@tcsahub.org
SUMMARY:Get to Know your Watershed - Watershed 101 Workshop
DESCRIPTION:No matter where you stand on the planet\, you are on a watershed . Learn about your watershed \, what is affecting it\, why it is important\, and what local environmental groups are doing to help. \n\nFree Event \,  Advance Registration Required Limited Seating  \nDonations are appreciated but not required. \n\nDerron LaBrake Title : Watershed Ecology Mr. LaBrake will be explaining what a watershed is\, how a watershed functions under normal conditions\, how it reacts to urbanization\, how the ecology of the natural system reacts to the physical changes that occur in streams as a result of urbanization\, the current state of our watershed’s streams . Derron LaBrake is a professional wetlands scientist\, certified ecological designer and master watershed steward\, with more than 30 years of professional experience. Mr. LaBrake has been working as a professional ecologist for more than 30 years in the region and has considerable knowledge and understanding of stream ecology\, stormwater hydrology\, watershed hydrology and environmental monitoring.\n\nDavid Bressler Title: David Bressler is an aquatic ecologist and science educator. He has worked with Stroud Water Research Center for the past four years facilitating citizen science in the Delaware River Basin. Prior to this he was employed in private industry working with federal\, state\, and county environmental agencies across the country to understand and characterize the connection of landscape activities to the biological\, chemical\, and physical conditions of streams and rivers.” M.Ed.\, Curriculum and Instruction (Science Education\, Biology)\, The Pennsylvania State University\, Master of Environmental Management\, Water and Air Resources\, Duke University\, B.A.\, Biology and Anthropology\, Franklin and Marshall College\,\n\nLauren McGrath Title: Monitoring Opportunities In Darby Creek Watershed Lauren will be discussing opportunities to learn more about stream health and how to get involved with water quality monitoring efforts throughout the upper Darby Creek Watershed. Lauren McGrath is the Director of the Watershed Protection Program at Willistown Conservation Trust where she is working with the Academy of Natural Sciences to monitor water quality in the headwaters of the Ridley\, Crum and Darby Creeks. With a Master of Environmental Studies Degree from the University of Pennsylvania\, Lauren is passionate about clean water for everyone.
URL:https://tcsahub.org/event/get-to-know-your-watershed-watershed-101-workshop/
LOCATION:Online
CATEGORIES:Educational,Training,Webinar
END:VEVENT
BEGIN:VEVENT
DTSTART;TZID=America/New_York:20190515T200000
DTEND;TZID=America/New_York:20190515T210000
DTSTAMP:20260419T144012
CREATED:20190510T195243Z
LAST-MODIFIED:20190510T195243Z
UID:2068-1557950400-1557954000@tcsahub.org
SUMMARY:Webinar on health and climate hazards of biogas
DESCRIPTION:Bio(gas)hazards: Dirty Air\, Factory Farms and Climate Change\n \n\n\n\n\n\n\n\n\n\n\nOil and gas companies are teaming up with factory farms to sell us a greenwashed nightmare: manure as renewable energy.\n\nManure-to-energy\, or “biogas\,” uses manure from factory farms to create natural gas. It entrenches factory farms by creating a market for the huge volumes of manure they produce. Investing in the massive infrastructure needed to produce biogas wastes critical resources that should be used to shift us toward real renewable energy. It will disproportionately impact communities of color. And it won’t address our climate crisis or our factory farm problem. 
URL:https://tcsahub.org/event/webinar-on-health-and-climate-hazards-of-biogas/
CATEGORIES:Educational,Webinar
ATTACH;FMTTYPE=image/jpeg:https://tcsahub.org/wp-content/uploads/2019/05/Food_Factory-Farms_WasteLagoonRightSpout_USDA_300_KK0418.jpeg
END:VEVENT
END:VCALENDAR